BEGIN:VCALENDAR
PRODID:NingEventWidget-v1
VERSION:2.0
METHOD:PUBLISH
BEGIN:VEVENT
UID:2606393:Event:910785
DTSTAMP:20260424T050219Z
SUMMARY:2023 Zenith Aircraft HOMECOMING and fly-in
DESCRIPTION:\r\nPLAN NOW TO JOIN US FOR THE 2023 ZENITH HOMECOMING AND
  FLY-IN:  September 15 & 16, 2023, in Mexico Missouri\r\nTwo full days
  of activities and fun! Seminars, flying activities and lots of camara
 derie, as we celebrate Zenith Aircraft's 30th Anniversary!\r\n\r\nHome
 coming Details\r\nSchedule of Events (9/12/23)\r\nDinner Tickets\r\nF
 acebook Event Page\r\nPhotos from 2022\r\n\r\n\r\nJoin us for the 32nd
  annual Zenith Aircraft Homecoming (Open Hangar Days and Fly-In) at th
 e kit aircraft factory: September 15 & 16, 2023.  \r\nTwo full days 
 of educational and fun activities at the Zenith Aircraft factory in M
 exico, Missouri. Drive in or fly-in! Free onsite camping. \r\n\r\nZe
 nith Builders and Flyers: This is your homecoming event: We invite you
  to participate and to get involved!\r\nRead more\n\nFor more informat
 ion visit https://zenith.aero/events/2023-zenith-homecoming
DTSTART:20230915T050000Z
DTEND:20230917T045900Z
CATEGORIES:fly-in, open, house, fly, in, mexico, missouri, 2022, homec
 oming, airshow
LOCATION:Zenith Aircraft factory
WEBSITE:https://zenith.aero/profiles/blogs/2023-zenith-homecoming
URL:https://zenith.aero/profiles/blogs/2023-zenith-homecoming
CONTACT:573-581-9000
ORGANIZER:Zenith Aircraft Co.
ATTACH;FMTTYPE="image/jpeg":https://storage.ning.com/topology/rest/1.0
 /file/get/3988710585?profile=original
ATTENDEE;ROLE=REQ-PARTICIPANT;PARTSTAT=ACCEPTED;RSVP=TRUE;CN="Clint L 
 Gosch":https://zenith.aero/profile/ClintLGosch
ATTENDEE;ROLE=REQ-PARTICIPANT;PARTSTAT=ACCEPTED;RSVP=TRUE;CN="Michael 
 Weikart":https://zenith.aero/profile/MichaelWeikart
ATTENDEE;ROLE=REQ-PARTICIPANT;PARTSTAT=ACCEPTED;RSVP=TRUE;CN="Kevin E 
 Ivey":https://zenith.aero/profile/KevinEIvey
ATTENDEE;ROLE=REQ-PARTICIPANT;PARTSTAT=ACCEPTED;RSVP=TRUE;CN="Daryl Ha
 bit":https://zenith.aero/profile/DarylHabit
ATTENDEE;ROLE=REQ-PARTICIPANT;PARTSTAT=ACCEPTED;RSVP=TRUE;CN="Charles 
 Wallace":https://zenith.aero/profile/CharlesWallace
ATTENDEE;ROLE=REQ-PARTICIPANT;PARTSTAT=ACCEPTED;RSVP=TRUE;CN="Dennis H
 utchinson":https://zenith.aero/profile/DennisHutchinson
ATTENDEE;ROLE=REQ-PARTICIPANT;PARTSTAT=ACCEPTED;RSVP=TRUE;CN="Mike Cha
 pman":https://zenith.aero/profile/MikeChapman
ATTENDEE;ROLE=REQ-PARTICIPANT;PARTSTAT=ACCEPTED;RSVP=TRUE;CN="Steve Ba
 rteau":https://zenith.aero/profile/SteveBarteau
ATTENDEE;ROLE=REQ-PARTICIPANT;PARTSTAT=ACCEPTED;RSVP=TRUE;CN="John  Au
 stin":https://zenith.aero/profile/JohnLAustin
ATTENDEE;ROLE=REQ-PARTICIPANT;PARTSTAT=ACCEPTED;RSVP=TRUE;CN="John Bur
 ns":https://zenith.aero/profile/JohnBurns
ATTENDEE;ROLE=REQ-PARTICIPANT;PARTSTAT=ACCEPTED;RSVP=TRUE;CN="Zenith A
 ero":https://zenith.aero/profile/ZenithAero
ATTENDEE;ROLE=REQ-PARTICIPANT;PARTSTAT=TENTATIVE;RSVP=TRUE;CN="John Ta
 tro":https://zenith.aero/profile/JohnTatro
END:VEVENT
END:VCALENDAR
