BEGIN:VCALENDAR
PRODID:NingEventWidget-v1
VERSION:2.0
METHOD:PUBLISH
BEGIN:VEVENT
UID:2606393:Event:711424
DTSTAMP:20260421T070041Z
SUMMARY:29th annual Zenith Aircraft HOMECOMING and fly-in
DESCRIPTION:Thank you to everyone who visited and participated at the 
 29th annual Zenith Homecoming! We had a fantastic event at the Zenith
  Aircraft kit factory. Beautiful planes, perfect weather and awesome p
 eople!! Check out the photos from event (more to come!)\r\n\r\n///\r
 \n\r\n29th annual Zenith Aircraft Homecoming (Open Hangar Days and Fly
 -In) at the kit aircraft factory: September 18 & 19, 2020.\r\n\r\nPur
 chase dinner tickets now!\r\nSchedule of Events (9/18/20e)\r\nBlog Po
 st Detailing Events (9/12/2020)\r\nArea Map\r\nCheck out the Zenith Fa
 cebook event page for updates\r\n\r\n\r\nPlease bring your own portabl
 e folding chair(s) to allow yourself to socially distance.\r\n\r\nPrev
 iew of the Zenith Homecoming Events (9/11/2020):\r\n\r\n29th annual Ze
 nith Aircraft Homecoming (Open Hangar Days and Fly-In) at the kit airc
 raft factory: September 18 & 19, 2020. Two full days of educational a
 nd fun activities at the Zenith Aircraft factory in Mexico, Missouri!
 \r\nDrive in or fly-in! Free onsite camping!\r\nViews from the 2019 ev
 ent (scroll below for more):\r\n\r\n\r\nThis year's confirmed particip
 ants and supporters:\r\n\r\n\r\nPhotos from the 2019 event\r\nViews fr
 om the 2019 event:\r\n\r\n\r\n \r\nZenith Builders and Flyers: This i
 s your homecoming event: We invite you to participate and to get invol
 ved!\n\nFor more information visit https://zenith.aero/events/29th-ann
 ual-zenith-aircraft-homecoming-and-fly-in
DTSTART:20200918T050000Z
DTEND:20200920T045900Z
CATEGORIES:fly-in, open, house, fly, in, mexico, missouri, 2020, homec
 oming, airshow
LOCATION:Zenith Aircraft factory
WEBSITE:http://www.zenithair.com/events.htm
URL:http://www.zenithair.com/events.htm
CONTACT:573-581-9000
ORGANIZER:Zenith Aircraft Co.
ATTACH;FMTTYPE="image/jpeg":https://storage.ning.com/topology/rest/1.0
 /file/get/3988710585?profile=original
ATTENDEE;ROLE=REQ-PARTICIPANT;PARTSTAT=ACCEPTED;RSVP=TRUE;CN="James Ca
 in":https://zenith.aero/profile/James
ATTENDEE;ROLE=REQ-PARTICIPANT;PARTSTAT=ACCEPTED;RSVP=TRUE;CN="Cliff Ma
 ttson":https://zenith.aero/profile/CliffMattson
ATTENDEE;ROLE=REQ-PARTICIPANT;PARTSTAT=ACCEPTED;RSVP=TRUE;CN="Mark Pen
 senstadler":https://zenith.aero/profile/MarkPensenstadler
ATTENDEE;ROLE=REQ-PARTICIPANT;PARTSTAT=ACCEPTED;RSVP=TRUE;CN="Jeremy C
 owgar":https://zenith.aero/profile/JeremyCowgar
ATTENDEE;ROLE=REQ-PARTICIPANT;PARTSTAT=ACCEPTED;RSVP=TRUE;CN="Henry Tu
 rner":https://zenith.aero/profile/HenryTurner
ATTENDEE;ROLE=REQ-PARTICIPANT;PARTSTAT=ACCEPTED;RSVP=TRUE;CN="Bruce Fl
 att":https://zenith.aero/profile/BruceFlatt
ATTENDEE;ROLE=REQ-PARTICIPANT;PARTSTAT=ACCEPTED;RSVP=TRUE;CN="Steve Ba
 rteau":https://zenith.aero/profile/SteveBarteau
ATTENDEE;ROLE=REQ-PARTICIPANT;PARTSTAT=ACCEPTED;RSVP=TRUE;CN="Earnest 
 Fontenot":https://zenith.aero/profile/EarnestFontenot
ATTENDEE;ROLE=REQ-PARTICIPANT;PARTSTAT=ACCEPTED;RSVP=TRUE;CN="Timothy 
 Aanerud":https://zenith.aero/profile/TimothyAanerud
ATTENDEE;ROLE=REQ-PARTICIPANT;PARTSTAT=ACCEPTED;RSVP=TRUE;CN="Walter C
 ancel":https://zenith.aero/profile/WalterCancel
ATTENDEE;ROLE=REQ-PARTICIPANT;PARTSTAT=ACCEPTED;RSVP=TRUE;CN="John Bur
 ns":https://zenith.aero/profile/JohnBurns
ATTENDEE;ROLE=REQ-PARTICIPANT;PARTSTAT=ACCEPTED;RSVP=TRUE;CN="richard 
 nance":https://zenith.aero/profile/richardnance
ATTENDEE;ROLE=REQ-PARTICIPANT;PARTSTAT=ACCEPTED;RSVP=TRUE;CN="Larry Ze
 pp":https://zenith.aero/profile/LarryZepp
ATTENDEE;ROLE=REQ-PARTICIPANT;PARTSTAT=ACCEPTED;RSVP=TRUE;CN="Fred Wil
 liams":https://zenith.aero/profile/FredWilliams
ATTENDEE;ROLE=REQ-PARTICIPANT;PARTSTAT=ACCEPTED;RSVP=TRUE;CN="Darren M
 iller":https://zenith.aero/profile/DarrenMiller
ATTENDEE;ROLE=REQ-PARTICIPANT;PARTSTAT=ACCEPTED;RSVP=TRUE;CN="Sean Tho
 mpson":https://zenith.aero/profile/SeanThompson
ATTENDEE;ROLE=REQ-PARTICIPANT;PARTSTAT=ACCEPTED;RSVP=TRUE;CN="Kevin E 
 Ivey":https://zenith.aero/profile/KevinEIvey
ATTENDEE;ROLE=REQ-PARTICIPANT;PARTSTAT=ACCEPTED;RSVP=TRUE;CN="Roland A
 shby":https://zenith.aero/profile/RolandAshby
ATTENDEE;ROLE=REQ-PARTICIPANT;PARTSTAT=ACCEPTED;RSVP=TRUE;CN="Sebastie
 n Heintz":https://zenith.aero/profile/SHeintz
ATTENDEE;ROLE=REQ-PARTICIPANT;PARTSTAT=ACCEPTED;RSVP=TRUE;CN="Justin L
 ukes":https://zenith.aero/profile/JustinLukes
ATTENDEE;ROLE=REQ-PARTICIPANT;PARTSTAT=ACCEPTED;RSVP=TRUE;CN="Gino Sht
 irlits":https://zenith.aero/profile/EugeneShtirlits
ATTENDEE;ROLE=REQ-PARTICIPANT;PARTSTAT=ACCEPTED;RSVP=TRUE;CN="Kenneth 
 Stapleton":https://zenith.aero/profile/KennethStapleton
ATTENDEE;ROLE=REQ-PARTICIPANT;PARTSTAT=ACCEPTED;RSVP=TRUE;CN="Alan Lan
 sing":https://zenith.aero/profile/AlanLansing
ATTENDEE;ROLE=REQ-PARTICIPANT;PARTSTAT=ACCEPTED;RSVP=TRUE;CN="Matt Cro
 sby":https://zenith.aero/profile/MattCrosby
ATTENDEE;ROLE=REQ-PARTICIPANT;PARTSTAT=ACCEPTED;RSVP=TRUE;CN="John  Au
 stin":https://zenith.aero/profile/JohnLAustin
ATTENDEE;ROLE=REQ-PARTICIPANT;PARTSTAT=ACCEPTED;RSVP=TRUE;CN="Richard 
 A. Crawford":https://zenith.aero/profile/RichardACrawford
ATTENDEE;ROLE=REQ-PARTICIPANT;PARTSTAT=ACCEPTED;RSVP=TRUE;CN="William 
 Fahey":https://zenith.aero/profile/WilliamFahey
ATTENDEE;ROLE=REQ-PARTICIPANT;PARTSTAT=ACCEPTED;RSVP=TRUE;CN="Jaime Ra
 bins":https://zenith.aero/profile/JaimeRabins
ATTENDEE;ROLE=REQ-PARTICIPANT;PARTSTAT=ACCEPTED;RSVP=TRUE;CN="Richard 
 Deal":https://zenith.aero/profile/RichardDeal
ATTENDEE;ROLE=REQ-PARTICIPANT;PARTSTAT=ACCEPTED;RSVP=TRUE;CN="James K.
  Allen":https://zenith.aero/profile/JamesKAllen
ATTENDEE;ROLE=REQ-PARTICIPANT;PARTSTAT=ACCEPTED;RSVP=TRUE;CN="Darrin T
 owers":https://zenith.aero/profile/DarrinTowers
ATTENDEE;ROLE=REQ-PARTICIPANT;PARTSTAT=ACCEPTED;RSVP=TRUE;CN="Zenith A
 ero":https://zenith.aero/profile/ZenithAero
ATTENDEE;ROLE=REQ-PARTICIPANT;PARTSTAT=TENTATIVE;RSVP=TRUE;CN="Gary Ra
 y":https://zenith.aero/profile/GaryRay
ATTENDEE;ROLE=REQ-PARTICIPANT;PARTSTAT=TENTATIVE;RSVP=TRUE;CN="Doug Jo
 hnson":https://zenith.aero/profile/DougJohnson
ATTENDEE;ROLE=REQ-PARTICIPANT;PARTSTAT=TENTATIVE;RSVP=TRUE;CN="Chris H
 arding":https://zenith.aero/profile/ChrisHarding
ATTENDEE;ROLE=REQ-PARTICIPANT;PARTSTAT=TENTATIVE;RSVP=TRUE;CN="Len Bur
 gess":https://zenith.aero/profile/LenBurgess
ATTENDEE;ROLE=REQ-PARTICIPANT;PARTSTAT=TENTATIVE;RSVP=TRUE;CN="Greg Pr
 iest":https://zenith.aero/profile/MrGregorySPriest
ATTENDEE;ROLE=REQ-PARTICIPANT;PARTSTAT=TENTATIVE;RSVP=TRUE;CN="Bill Ca
 rrier":https://zenith.aero/profile/BillCarrier
ATTENDEE;ROLE=REQ-PARTICIPANT;PARTSTAT=TENTATIVE;RSVP=TRUE;CN="Tom Nea
 l":https://zenith.aero/profile/TomNeal
END:VEVENT
END:VCALENDAR
