BEGIN:VCALENDAR
PRODID:NingEventWidget-v1
VERSION:2.0
METHOD:PUBLISH
BEGIN:VEVENT
UID:2606393:Event:358724
DTSTAMP:20260421T174712Z
SUMMARY:40th Anniversary Zenair Open House & Fly-In!
DESCRIPTION:All builders, flyers and fans of Heintz-designed aircraft 
 are especially invited to attend this day of celebration! Fly to this 
 beautiful lake-filled region and visit the busy Zenair factory: apprec
 iate the old and also see what's new! The picture below is also a post
 er for the event, please pass it on to Zenith pilots in your area and/
 or print it for your local bulletin board. See you there!\n\n\n\n\nFor
  more information visit https://zenith.aero/events/40th-anniversary-ze
 nair-open-house-fly-in
DTSTART:20140719T150000Z
DTEND:20140719T210000Z
CATEGORIES:40th, anniversary, zenair
LOCATION:Huronia Airport (CYEE), Midland, Ontario Canada
WEBSITE:http://wikimapia.org/#lat=44.6912758&lon=-79.93191&z=18&l=0&m=
 b
URL:http://wikimapia.org/#lat=44.6912758&lon=-79.93191&z=18&l=0&m=b
CONTACT:705-526-2871
ORGANIZER:Zenair and friends!
ATTACH;FMTTYPE="image/jpeg":http://storage.ning.com/topology/rest/1.0/
 file/get/2268401252?profile=original
ATTENDEE;ROLE=REQ-PARTICIPANT;PARTSTAT=ACCEPTED;RSVP=TRUE;CN="Michael 
 Heintz":https://zenith.aero/profile/Mic
ATTENDEE;ROLE=REQ-PARTICIPANT;PARTSTAT=TENTATIVE;RSVP=TRUE;CN="Martin 
 Bima":https://zenith.aero/profile/MartinBima
END:VEVENT
END:VCALENDAR
