BEGIN:VCALENDAR
PRODID:NingEventWidget-v1
VERSION:2.0
METHOD:PUBLISH
BEGIN:VEVENT
UID:2606393:Event:25974
DTSTAMP:20260423T161134Z
SUMMARY:AirVenture Forum: Zodiac Update
DESCRIPTION:Zenair update on the ZODIAC CH601XL Series Light Aircraft 
 design from Chris Heintz. News and discussion on the latest developmen
 ts, presented by Mathieu Heintz / Zenair, and Sebastien Heintz / Zenit
 h Aircraft Co.\n\nFor more information visit https://zenith.aero/event
 s/airventure-forum-zodiac-update
DTSTART:20090727T150000Z
DTEND:20090727T161500Z
CATEGORIES:forum
LOCATION:AirVenture Forums Plaza: 008 NATCA Pavilion
WEBSITE:http://www.eaaapps.org/moreinfo.aspx?id=771
URL:http://www.eaaapps.org/moreinfo.aspx?id=771
CONTACT:
ORGANIZER:EAA AirVenture
ATTACH;FMTTYPE="image/jpeg":http://storage.ning.com/topology/rest/1.0/
 file/get/2268215569?profile=original
ATTENDEE;ROLE=REQ-PARTICIPANT;PARTSTAT=ACCEPTED;RSVP=TRUE;CN="Sebastie
 n Heintz":https://zenith.aero/profile/SHeintz
END:VEVENT
END:VCALENDAR
