BEGIN:VCALENDAR
PRODID:NingEventWidget-v1
VERSION:2.0
METHOD:PUBLISH
BEGIN:VEVENT
UID:2606393:Event:9475
DTSTAMP:20260423T145237Z
SUMMARY:AirVenture (Oshkosh) Fly-In
DESCRIPTION:EAA's week-long annual extravaganza in Oshkosh, WI. Visit 
 Zenith Aircraft in the North Aircraft Display area. Plan to attend the
  annual builders dinner (see separate Events listing) and sit in on Ze
 nith forums at Oshkosh. Plan to fly-in to Oshkosh with your Zenith Air
 craft!\n\nFor more information visit https://zenith.aero/events/airven
 ture-oshkosh-flyin
DTSTART:20090727T050000Z
DTEND:20090803T045900Z
CATEGORIES:fly-in
LOCATION:Oshkosh, Wisconsin
WEBSITE:http://www.airventure.org/
URL:http://www.airventure.org/
CONTACT:
ORGANIZER:EAA
ATTACH;FMTTYPE="image/jpeg":http://storage.ning.com/topology/rest/1.0/
 file/get/2268215569?profile=original
ATTENDEE;ROLE=REQ-PARTICIPANT;PARTSTAT=ACCEPTED;RSVP=TRUE;CN="Bob McDo
 nald":https://zenith.aero/profile/BobMcDonald
ATTENDEE;ROLE=REQ-PARTICIPANT;PARTSTAT=ACCEPTED;RSVP=TRUE;CN="Tim Garr
 ett":https://zenith.aero/profile/TimGarrett
ATTENDEE;ROLE=REQ-PARTICIPANT;PARTSTAT=ACCEPTED;RSVP=TRUE;CN="Jon Burn
 s":https://zenith.aero/profile/JonBurns
ATTENDEE;ROLE=REQ-PARTICIPANT;PARTSTAT=ACCEPTED;RSVP=TRUE;CN="John Dav
 is":https://zenith.aero/profile/JohnDavis
ATTENDEE;ROLE=REQ-PARTICIPANT;PARTSTAT=ACCEPTED;RSVP=TRUE;CN="Andy Ell
 iott":https://zenith.aero/profile/AndyElliott
ATTENDEE;ROLE=REQ-PARTICIPANT;PARTSTAT=ACCEPTED;RSVP=TRUE;CN="Ron Lend
 on":https://zenith.aero/profile/RonLendon
ATTENDEE;ROLE=REQ-PARTICIPANT;PARTSTAT=ACCEPTED;RSVP=TRUE;CN="Gus Warr
 en":https://zenith.aero/profile/GusWarren
ATTENDEE;ROLE=REQ-PARTICIPANT;PARTSTAT=ACCEPTED;RSVP=TRUE;CN="Patrick 
 Hoyt":https://zenith.aero/profile/PatrickHoyt
ATTENDEE;ROLE=REQ-PARTICIPANT;PARTSTAT=ACCEPTED;RSVP=TRUE;CN="Tom Ande
 rson":https://zenith.aero/profile/TomAnderson
ATTENDEE;ROLE=REQ-PARTICIPANT;PARTSTAT=ACCEPTED;RSVP=TRUE;CN="David Ga
 llagher":https://zenith.aero/profile/DavidGallagher
ATTENDEE;ROLE=REQ-PARTICIPANT;PARTSTAT=ACCEPTED;RSVP=TRUE;CN="Ken Pavl
 ou":https://zenith.aero/profile/KenPavlou
ATTENDEE;ROLE=REQ-PARTICIPANT;PARTSTAT=ACCEPTED;RSVP=TRUE;CN="Mark Tow
 nsend":https://zenith.aero/profile/MarkTownsend
ATTENDEE;ROLE=REQ-PARTICIPANT;PARTSTAT=ACCEPTED;RSVP=TRUE;CN="Wayne Cl
 agg":https://zenith.aero/profile/WayneClagg
ATTENDEE;ROLE=REQ-PARTICIPANT;PARTSTAT=ACCEPTED;RSVP=TRUE;CN="Sebastie
 n Heintz":https://zenith.aero/profile/SHeintz
ATTENDEE;ROLE=REQ-PARTICIPANT;PARTSTAT=TENTATIVE;RSVP=TRUE;CN="joseph 
 hanz":https://zenith.aero/profile/josephhanz
END:VEVENT
END:VCALENDAR
