BEGIN:VCALENDAR
PRODID:NingEventWidget-v1
VERSION:2.0
METHOD:PUBLISH
BEGIN:VEVENT
UID:2606393:Event:440806
DTSTAMP:20260423T102328Z
SUMMARY:Annual Zenair Open House & Fly-in
DESCRIPTION:Fly-in or Drive-in! See lots of customer-built Zenairs, si
 t in the factory demo planes (750 Cruzer and CH 801), factory tours, l
 earn about our new kits and programs! This event coincides with \"Airp
 ort-Day\" (50th anniversary) for our municipal airport and the local R
 AA's annual regional fly-in! Lots of planes and activities! For detail
 s, contact Michael at 705-526-2871.\n\nFor more information visit http
 s://zenith.aero/events/annual-zenair-open-house-fly-in
DTSTART:20150711T140000Z
DTEND:20150711T200000Z
CATEGORIES:fly-in, open, house
LOCATION:Huronia Airport (CYEE)
WEBSITE:http://www.zenair.com
URL:http://www.zenair.com
CONTACT:705-526-2871
ORGANIZER:Zenair
ATTACH;FMTTYPE="image/jpeg":http://storage.ning.com/topology/rest/1.0/
 file/get/2268457409?profile=original
ATTENDEE;ROLE=REQ-PARTICIPANT;PARTSTAT=ACCEPTED;RSVP=TRUE;CN="Michael 
 Heintz":https://zenith.aero/profile/Mic
END:VEVENT
END:VCALENDAR
