BEGIN:VCALENDAR
PRODID:NingEventWidget-v1
VERSION:2.0
METHOD:PUBLISH
BEGIN:VEVENT
UID:2606393:Event:438647
DTSTAMP:20260423T072905Z
SUMMARY:Arlington Air-Show  July 9-11-2015
DESCRIPTION:Quality Sport Planes will be representing Zenith Aircraft
  at the Arlington Air Show once again. As always we invite all those 
 who are building-flying or want to get a closer look at the wonderful 
 home built aircraft kits that are being provided by Zenith Aircraft to
  come to this event. I will have the CH750 STOL  Steve Smith and his 
 CH601XL-B and Woody Harris withhis Corvair powered CH601XL-B \nPS. I 
 am currently working on our new CH 750 CruZer that hope to fly soon.\n
 \n\nFor more information visit https://zenith.aero/events/arlington-ai
 r-show-july-9-11-2015
DTSTART:20150709T050000Z
DTEND:20150712T045900Z
CATEGORIES:air, show
LOCATION:Arlington Airport
WEBSITE:http://www.arlingtonflyin.org
URL:http://www.arlingtonflyin.org
CONTACT:530-526-4997
ORGANIZER;CN="Doug Dugger":https://zenith.aero/profile/DougDugger
ATTACH;FMTTYPE="image/jpeg":http://storage.ning.com/topology/rest/1.0/
 file/get/2268457053?profile=original
ATTENDEE;ROLE=REQ-PARTICIPANT;PARTSTAT=ACCEPTED;RSVP=TRUE;CN="Terry D 
 Hobert":https://zenith.aero/profile/TerryDHobert
ATTENDEE;ROLE=REQ-PARTICIPANT;PARTSTAT=ACCEPTED;RSVP=TRUE;CN="Shawn Ma
 gin":https://zenith.aero/profile/ShawnMagin
ATTENDEE;ROLE=REQ-PARTICIPANT;PARTSTAT=ACCEPTED;RSVP=TRUE;CN="ray atki
 nson":https://zenith.aero/profile/rayatkinson
ATTENDEE;ROLE=REQ-PARTICIPANT;PARTSTAT=ACCEPTED;RSVP=TRUE;CN="Doug Dug
 ger":https://zenith.aero/profile/DougDugger
END:VEVENT
END:VCALENDAR
