BEGIN:VCALENDAR
PRODID:NingEventWidget-v1
VERSION:2.0
METHOD:PUBLISH
BEGIN:VEVENT
UID:2606393:Event:26446
DTSTAMP:20260423T115520Z
SUMMARY:Arlington eaa flyin
DESCRIPTION:QSP and friends are going to Arlington wa for the northwes
 t eaa flyin leaving tuesday morning. Will fly up in our 701 STOL for d
 isplay for QSP&ZENITH aircraft. Woody Harris will be going in his corv
 air powered d601xl. Later in the week Christopher Desmond will fly in 
 with his 701 STOL hope to see many builders and flyers there.\n\nFor m
 ore information visit https://zenith.aero/events/arlington-eaa-flyin
DTSTART:20090708T120000Z
DTEND:20090712T211500Z
CATEGORIES:flyin
LOCATION:Arlington WA
WEBSITE:
URL:
CONTACT:
ORGANIZER:
ATTACH;FMTTYPE="image/jpeg":
ATTENDEE;ROLE=REQ-PARTICIPANT;PARTSTAT=ACCEPTED;RSVP=TRUE;CN="Chris Le
 wis":https://zenith.aero/profile/ChrisLewis
ATTENDEE;ROLE=REQ-PARTICIPANT;PARTSTAT=ACCEPTED;RSVP=TRUE;CN="Doug Dug
 ger":https://zenith.aero/profile/DougDugger
END:VEVENT
END:VCALENDAR
