BEGIN:VCALENDAR
PRODID:NingEventWidget-v1
VERSION:2.0
METHOD:PUBLISH
BEGIN:VEVENT
UID:2606393:Event:310409
DTSTAMP:20260421T231110Z
SUMMARY:Zenith Builder's Banquet & Dinner
DESCRIPTION:Banquet dinner at the 23rd annual Zenith Aircraft Open Han
 ger Day & Fly-In. Meet with fellow Zenith builders, pilots and enthusi
 asts. There are many awesome door prizes to be awarded and special gue
 sts. Don't miss this fun event! Cost per person is $20.\nTickets and m
 ore information\n\nFor more information visit https://zenith.aero/even
 ts/banquet-dinner-2013
DTSTART:20140919T230000Z
DTEND:20140920T020000Z
CATEGORIES:builder, banquet, dinner, open, house
LOCATION:Elks Lodge, Mexico, Missouri
WEBSITE:http://www.zenithair.com/news/oh2013.html
URL:http://www.zenithair.com/news/oh2013.html
CONTACT:573-581-9000
ORGANIZER;CN="Zenith.Aero":https://zenith.aero/profile/Admin
ATTACH;FMTTYPE="image/jpeg":http://storage.ning.com/topology/rest/1.0/
 file/get/2131565134?profile=original
ATTENDEE;ROLE=REQ-PARTICIPANT;PARTSTAT=ACCEPTED;RSVP=TRUE;CN="Zenith.A
 ero":https://zenith.aero/profile/Admin
END:VEVENT
END:VCALENDAR
