BEGIN:VCALENDAR
PRODID:NingEventWidget-v1
VERSION:2.0
METHOD:PUBLISH
BEGIN:VEVENT
UID:2606393:Event:680044
DTSTAMP:20260423T151204Z
SUMMARY:Bill Rewey - Celebration of a Life Well Lived
DESCRIPTION:Next Saturday June 29th a celebration honoring my dad will
  be held at Sugar Ridge Airport starting at 9am with a ceremony at 10 
 and refreshments after. Though dad built and flew an 801 and enjoyed b
 uilding his 750, he will always be known in the aviation community as 
 \"Mr. Pietenpol\". Weather permitting, a missing man formation will st
 art the ceremony, featuring at least one Pietenpol.\n\nFor more inform
 ation visit https://zenith.aero/events/bill-rewey-celebration-of-a-lif
 e-well-lived
DTSTART:20190629T140000Z
DTEND:20190629T170000Z
CATEGORIES:celebration, of, life
LOCATION:WS62 - Sugar Ridge Airport, Verona WI
WEBSITE:
URL:
CONTACT:
ORGANIZER;CN="Chris Rewey":https://zenith.aero/profile/ChrisRewey
ATTACH;FMTTYPE="image/jpeg":
ATTENDEE;ROLE=REQ-PARTICIPANT;PARTSTAT=ACCEPTED;RSVP=TRUE;CN="Chris Re
 wey":https://zenith.aero/profile/ChrisRewey
END:VEVENT
END:VCALENDAR
