BEGIN:VCALENDAR
PRODID:NingEventWidget-v1
VERSION:2.0
METHOD:PUBLISH
BEGIN:VEVENT
UID:2606393:Event:343033
DTSTAMP:20260424T062411Z
SUMMARY:Sun'n Fun Forum: Building an all-metal kit aircraft for first-
 time builders
DESCRIPTION:Education Forum Presentation and Discussion:\nBuilding an 
 all-metal kit aircraft for first-time builders\n\nThe SUN 'n FUN Educa
 tional Forums are held in the Central Florida Aerospace Academy (CFAA)
  across from the Florida Air Museum that houses eleven classrooms, eac
 h with a different forum every hour.\n\n\n\nFor more information visit
  https://zenith.aero/events/building-your-own-all-metal-aircraft
DTSTART:20150425T160000Z
DTEND:20150425T170000Z
CATEGORIES:forum
LOCATION:Room 11 - Central Florida Aerospace Academy (CFAA)
WEBSITE:http://www.sun-n-fun.org/FlyIn/EventActivitiesAndSchedules/for
 ums.aspx
URL:http://www.sun-n-fun.org/FlyIn/EventActivitiesAndSchedules/forums.
 aspx
CONTACT:
ORGANIZER;CN="Zenith.Aero":https://zenith.aero/profile/Admin
ATTACH;FMTTYPE="image/jpeg":http://storage.ning.com/topology/rest/1.0/
 file/get/2268211635?profile=original
ATTENDEE;ROLE=REQ-PARTICIPANT;PARTSTAT=ACCEPTED;RSVP=TRUE;CN="Zenith.A
 ero":https://zenith.aero/profile/Admin
END:VEVENT
END:VCALENDAR
