BEGIN:VCALENDAR
PRODID:NingEventWidget-v1
VERSION:2.0
METHOD:PUBLISH
BEGIN:VEVENT
UID:2606393:Event:352119
DTSTAMP:20260421T231542Z
SUMMARY:Care and Feeding of the Rotax 912 engine
DESCRIPTION:Are you aware of the six common Rotax engine myths? Find o
 ut for yourself by signing up for this Wednesday night’s webinar “
 Care and Feeding of the Rotax 912” presented by Prof. H. Paul Shuch.
  Prof. Shuch will discuss the six myths and how to operate your engin
 e for optimum efficiency, etc. He will also share experiences after ob
 serving student pilots operating the Rotax 912, maintaining various 91
 2-powered aircraft, and preventive maintenance. Register for free and
  qualify for a FAA AMT & Wings Credit: Proudly sponsored by Aircraft
  Spruce & Specialty Co.\n\nFor more information visit https://zenith.a
 ero/events/care-and-feeding-of-the-rotax-912-engine
DTSTART:20140424T000000Z
DTEND:20140424T010000Z
CATEGORIES:eaa, webinar
LOCATION:Online webinar
WEBSITE:http://www.eaa.org/webinars/
URL:http://www.eaa.org/webinars/
CONTACT:
ORGANIZER:EAA
ATTACH;FMTTYPE="image/jpeg":http://storage.ning.com/topology/rest/1.0/
 file/get/2268393250?profile=original
ATTENDEE;ROLE=REQ-PARTICIPANT;PARTSTAT=ACCEPTED;RSVP=TRUE;CN="Zenith.A
 ero":https://zenith.aero/profile/Admin
END:VEVENT
END:VCALENDAR
