BEGIN:VCALENDAR
PRODID:NingEventWidget-v1
VERSION:2.0
METHOD:PUBLISH
BEGIN:VEVENT
UID:2606393:Event:434423
DTSTAMP:20260423T085538Z
SUMMARY:Christopher Ward
DESCRIPTION:Hello all I will be having a work shop at Zenith June 8-12
 , 2015. We plan to build my wings that week and give young eagle rides
  to some of the 150 cub scouts that will be on a tour of the Zenith fa
 ctory on June 9-11, 2015. If you would like to help build my wings or 
 help fly young eagles contact me for more information.\n\nFor more inf
 ormation visit https://zenith.aero/events/christopher-ward
DTSTART:20150608T140000Z
DTEND:20150612T210000Z
CATEGORIES:work, shop, "&", young, eagle, rally
LOCATION:Zenith Factory
WEBSITE:
URL:
CONTACT:919-850-2353
ORGANIZER;CN="Christopher Primus Ward Jr.":https://zenith.aero/profile
 /ChristopherPrimusWardJr
ATTACH;FMTTYPE="image/jpeg":
ATTENDEE;ROLE=REQ-PARTICIPANT;PARTSTAT=ACCEPTED;RSVP=TRUE;CN="Christop
 her Primus Ward Jr.":https://zenith.aero/profile/ChristopherPrimusWard
 Jr
END:VEVENT
END:VCALENDAR
