BEGIN:VCALENDAR
PRODID:NingEventWidget-v1
VERSION:2.0
METHOD:PUBLISH
BEGIN:VEVENT
UID:2606393:Event:17729
DTSTAMP:20260423T161037Z
SUMMARY:Corvair College 14
DESCRIPTION:Corvair Colleges are fun social events featuring William W
 ynne of Flycorvair.com. They're about learning all aspects of Corvair 
 motors in flight applications. But, perhaps more importantly, they're 
 about enjoying the company of like-minded aviators with a passion for 
 flight and Corvairs . If this sounds like your style, you're more than
  welcome. Bring a friend, or come meet new ones.\n\nPlease go to www.a
 erovair.com and register for this event.\n\nEmail corvaircollege14@gma
 il.com with any questions.\n\nFor more information visit https://zenit
 h.aero/events/corvair-college-14
DTSTART:20090522T210000Z
DTEND:20090524T190000Z
CATEGORIES:education, "/", social
LOCATION:Aerovair / Nitron
WEBSITE:http://www.aerovair.com
URL:http://www.aerovair.com
CONTACT:
ORGANIZER;CN="Ken Pavlou":https://zenith.aero/profile/KenPavlou
ATTACH;FMTTYPE="image/jpeg":http://storage.ning.com/topology/rest/1.0/
 file/get/2268221712?profile=original
ATTENDEE;ROLE=REQ-PARTICIPANT;PARTSTAT=ACCEPTED;RSVP=TRUE;CN="Ken Pavl
 ou":https://zenith.aero/profile/KenPavlou
END:VEVENT
END:VCALENDAR
