BEGIN:VCALENDAR
PRODID:NingEventWidget-v1
VERSION:2.0
METHOD:PUBLISH
BEGIN:VEVENT
UID:2606393:Event:25454
DTSTAMP:20260423T115006Z
SUMMARY:DFW Builders get together
DESCRIPTION:Attention Zenith builders and flyers in the DFW (Texas) ar
 ea.\n\nIf there is enough interest, we plan to have a breakfast meetin
 g on July 18 at\n\nHicks Airfield (T67), fly in or drive in. There are
  a whole bunch of us in\nvarious stages of building 601s, 650s, 701s, 
 750s and 801s in this area and it\n\nwould be great for all of us to m
 eet one another and talk about our passions\n(and our perils).\n\nIf i
 nterested, please let me know, on line or off.\n\nThanks - Jay Bannist
 er 601XL \"Lil Bruiser\"\n\nFor more information visit https://zenith.
 aero/events/dfw-builders-get-together
DTSTART:20090623T130000Z
DTEND:20090623T150000Z
CATEGORIES:fly, in, drive, breakfast, and, lots, a, "talk."
LOCATION:Hicks Airfield, Texas (T76)
WEBSITE:
URL:
CONTACT:
ORGANIZER;CN="Jay Bannister":https://zenith.aero/profile/JayBannister
ATTACH;FMTTYPE="image/jpeg":
ATTENDEE;ROLE=REQ-PARTICIPANT;PARTSTAT=ACCEPTED;RSVP=TRUE;CN="Jay Bann
 ister":https://zenith.aero/profile/JayBannister
END:VEVENT
END:VCALENDAR
