BEGIN:VCALENDAR
PRODID:NingEventWidget-v1
VERSION:2.0
METHOD:PUBLISH
BEGIN:VEVENT
UID:2606393:Event:354282
DTSTAMP:20260421T191437Z
SUMMARY:Don Herbel
DESCRIPTION:Annual Avian Airpark fly-in breakfast.\nAvian Airpark (OK1
 5) located 20 miles NE of Tulsa, Okla., 3 miles south of Lake Oologa
 h. Birthplace of Will Rogers is nearby (Dog Iron Ranch and landing str
 ip).\nPancakes and sausage.  Entertainment by local Blue Grass, Count
 ry, Rock band.\nBunk house in hangar for B&B.\n\nFor more information 
 visit https://zenith.aero/events/don-herbel
DTSTART:20140510T120000Z
DTEND:20140510T170000Z
CATEGORIES:"homeowners'", association, social, event
LOCATION:Rogers County Okla.  20 miles from Tulsa
WEBSITE:
URL:
CONTACT:918-859-7901
ORGANIZER;CN="Don Herbel":https://zenith.aero/profile/DonHerbel
ATTACH;FMTTYPE="image/jpeg":
ATTENDEE;ROLE=REQ-PARTICIPANT;PARTSTAT=ACCEPTED;RSVP=TRUE;CN="Don Herb
 el":https://zenith.aero/profile/DonHerbel
END:VEVENT
END:VCALENDAR
