BEGIN:VCALENDAR
PRODID:NingEventWidget-v1
VERSION:2.0
METHOD:PUBLISH
BEGIN:VEVENT
UID:2606393:Event:366397
DTSTAMP:20260422T003322Z
SUMMARY:EAA forum presentation: ZENITH CH 650
DESCRIPTION:\nBuild and fly the all-metal low-wing kit airplace from d
 esigner Chris Heintz. The CH 650 is a kit airplane with many modern fe
 atures and great capabilities, and can be built in under 500 hours. Th
 is design can be scratch-built and can be powered with many differen
 t engines.\n\nFor more information visit https://zenith.aero/events/ea
 a-forum-presentation-zenith-ch-650
DTSTART:20140801T163000Z
DTEND:20140801T174500Z
CATEGORIES:eaa, forum, presentation
LOCATION:Forum 10 in the Forums Plaza at EAA AirVenture
WEBSITE:http://www.eaa.org/eaa/event/Zenith_CH_650?id=B5E0D5E118994334
 8D321B1B81F2AA32
URL:http://www.eaa.org/eaa/event/Zenith_CH_650?id=B5E0D5E1189943348D32
 1B1B81F2AA32
CONTACT:
ORGANIZER:EAA
ATTACH;FMTTYPE="image/jpeg":http://storage.ning.com/topology/rest/1.0/
 file/get/2268405447?profile=original
ATTENDEE;ROLE=REQ-PARTICIPANT;PARTSTAT=ACCEPTED;RSVP=TRUE;CN="Zenith.A
 ero":https://zenith.aero/profile/Admin
END:VEVENT
END:VCALENDAR
