BEGIN:VCALENDAR
PRODID:NingEventWidget-v1
VERSION:2.0
METHOD:PUBLISH
BEGIN:VEVENT
UID:2606393:Event:774165
DTSTAMP:20260421T122035Z
SUMMARY:EAA Webinar: Zenith Aircraft Kits & Plans (as part of EAA Home
 builders Week)
DESCRIPTION:Join EAA on January 26-30, 2021, during the first EAA Home
 builders Week online event. Experts from every corner of the homebuilt
  aircraft community will bring their knowledge and information to buil
 ders everywhere through free and interactive webinars. Topics covered 
 include workshops on sheet metal, welding, and wood; aircraft designs 
 from a variety of industry leaders; part selection when building; buyi
 ng secondhand; and more.\r\n\r\n\r\nZenith Webinar is part of the EA
 A Homebuilders Week: Zenith Aircraft Kits & Plans Wed, Jan 27, 2021, 2
 :30 - 3:45 p.m. CST\r\nPresenter: Sebastien Heintz\r\n\"Zenith Aircraf
 t offers both high wing and low wing kits that are fun to fly and easy
  to build. They also offer plans for those on a tight budget. In this 
 session, Sebastien Heintz will discuss their designs and engine option
 s to help you decide if this is the kit to build.\"\r\nFree webinar. R
 egistration is required. Sign up here\r\n \r\n\r\n \r\nThe EAA Homeb
 uilders Week event coincides with the 68th anniversary of the first E
 xperimental Aircraft Association meeting on January 26, 1953. Homebuil
 ders Week will be a tremendous learning opportunity that celebrates ou
 r legacy of, as EAA founder Paul Poberezny often said, using hand and 
 mind to create aircraft that allow us to enjoy the personal freedom of
  flight!\r\n \r\n\r\n\n\nFor more information visit https://zenith.ae
 ro/events/eaa-homebuilders-week
DTSTART:20210127T203000Z
DTEND:20210127T214500Z
CATEGORIES:virtual, online, class
LOCATION:Online
WEBSITE:http://pages.eaa.org/WBN2021-01-27ZenithAircraftKitsPlans_LP-R
 egistration.html
URL:http://pages.eaa.org/WBN2021-01-27ZenithAircraftKitsPlans_LP-Regis
 tration.html
CONTACT:
ORGANIZER:EAA
ATTACH;FMTTYPE="image/jpeg":https://storage.ning.com/topology/rest/1.0
 /file/get/8181975454?profile=original
ATTENDEE;ROLE=REQ-PARTICIPANT;PARTSTAT=ACCEPTED;RSVP=TRUE;CN="Donald B
 erk":https://zenith.aero/profile/DonaldBerk
ATTENDEE;ROLE=REQ-PARTICIPANT;PARTSTAT=ACCEPTED;RSVP=TRUE;CN="Joseph M
 illette":https://zenith.aero/profile/JosephMillette
ATTENDEE;ROLE=REQ-PARTICIPANT;PARTSTAT=ACCEPTED;RSVP=TRUE;CN="R. Peter
  Gisselbeck":https://zenith.aero/profile/RPeterGisselbeck
ATTENDEE;ROLE=REQ-PARTICIPANT;PARTSTAT=ACCEPTED;RSVP=TRUE;CN="Zenith A
 ero":https://zenith.aero/profile/ZenithAero
ATTENDEE;ROLE=REQ-PARTICIPANT;PARTSTAT=TENTATIVE;RSVP=TRUE;CN="DENNIS 
 LONG":https://zenith.aero/profile/DENNISLONG
END:VEVENT
END:VCALENDAR
