BEGIN:VCALENDAR
PRODID:NingEventWidget-v1
VERSION:2.0
METHOD:PUBLISH
BEGIN:VEVENT
UID:2606393:Event:366562
DTSTAMP:20260421T231559Z
SUMMARY:EAA HOMEBUILTS IN REVIEW- ZENITH CH 750
DESCRIPTION:\nZenith CH 750 review in the Homebuilders Hangar.\nHomeb
 uilts in Review sessions feature aircraft designers presenting informa
 tion next to their aircraft and answering questions from the audience.
 \nLocated just north of the Workshops area, Homebuilders Hangar is the
  multi-purpose hub for the homebuilt aircraft community at Oshkosh.\n\
 nFor more information visit https://zenith.aero/events/eaa-homebuilts-
 in-review-zenith-ch-750
DTSTART:20140801T180000Z
DTEND:20140801T191500Z
CATEGORIES:homebuilts, in, review
LOCATION:EAA Homebuilders Hangar
WEBSITE:http://www.eaa.org/eaa/event/HB_in_Review-_Zenith_CH_750?id=4D
 31DCC389CA440B8E2DE61FB284816E
URL:http://www.eaa.org/eaa/event/HB_in_Review-_Zenith_CH_750?id=4D31DC
 C389CA440B8E2DE61FB284816E
CONTACT:
ORGANIZER:EAA
ATTACH;FMTTYPE="image/jpeg":http://storage.ning.com/topology/rest/1.0/
 file/get/2268405447?profile=original
ATTENDEE;ROLE=REQ-PARTICIPANT;PARTSTAT=ACCEPTED;RSVP=TRUE;CN="Zenith.A
 ero":https://zenith.aero/profile/Admin
END:VEVENT
END:VCALENDAR
