BEGIN:VCALENDAR
PRODID:NingEventWidget-v1
VERSION:2.0
METHOD:PUBLISH
BEGIN:VEVENT
UID:2606393:Event:902863
DTSTAMP:20260422T015732Z
SUMMARY:EAA Oshkosh AirVenture 2023
DESCRIPTION:\r\n\r\nEAA Oshkosh AirVenture: July 24 - 30, 2023, Oshkos
 h Wisconsin. Whether you're a current builder or owner, or just lookin
 g at starting on your own project, there's always something for Zenith
  builders at Oshkosh!  As usual, we have many activities during the w
 eek!\r\n\r\nVisit the Zenith booth (#610 & 611) in the Homebuilt / N
 orth Aircraft Display area, right at the hub of the kit plane communi
 ty (same location as past years, just just of the south of the EAA Aer
 oplane Hangar).\r\nEducational forums about building and flying Zenith
  aircraft \r\nDaily Zenith kit assembly demonstration and workshop in
  the AeroPlane Workshop Hangar (Volunteers needed - Zenith builders: C
 ome lend a hand and volunteer some time demonstrating basic kit assemb
 ly and sharing your experiences!)\r\n\r\n\r\nZenith Banquet: Thursday,
  July 27th, at the Mineshaft restaurant (Dinner and social hour). See 
 info sheet below.   \r\nWe'll provide more details as we approach the
  event date. Check the Zenith Facebook page for more details.\r\n\r\n\
 r\n  Educational forums about building and flying Zenith aircraft:\r\
 n\r\nZenith builders and flyers: Let us know (in the comments below) i
 f you're planning an event (such as a campsite BBQ) at Oshkosh with fe
 llow builders and flyers\n\nFor more information visit https://zenith.
 aero/events/eaa-oshkosh-airventure-2023
DTSTART:20230724T050000Z
DTEND:20230731T045900Z
CATEGORIES:fly-in, eaa, airventure, oshosh, 2023
LOCATION:EAA Oshkosh
WEBSITE:http://www.eaa.org
URL:http://www.eaa.org
CONTACT:
ORGANIZER:EAA
ATTACH;FMTTYPE="image/jpeg":https://storage.ning.com/topology/rest/1.0
 /file/get/11128132900?profile=original
ATTENDEE;ROLE=REQ-PARTICIPANT;PARTSTAT=ACCEPTED;RSVP=TRUE;CN="Zenith A
 ero":https://zenith.aero/profile/ZenithAero
END:VEVENT
END:VCALENDAR
