BEGIN:VCALENDAR
PRODID:NingEventWidget-v1
VERSION:2.0
METHOD:PUBLISH
BEGIN:VEVENT
UID:2606393:Event:440188
DTSTAMP:20260421T020401Z
SUMMARY:EAA Oshkosh AirVenture
DESCRIPTION:This year will be full of activities once again - we hope 
 you join us!\nHere is a summary of the planned Zenith activities. Whe
 ther you're a current builder or owner, or just looking at starting on
  your own project, there's always something for Zenith builders at Osh
 kosh!\n\nEAA's GIVE FLIGHT Wings Project\nZenith Builder Dinner\nZenit
 h \"Engine Day\"\nForums\nMore!\n\n\nFor more information visit https:
 //zenith.aero/events/eaa-oshkosh-airventure
DTSTART:20150720T050000Z
DTEND:20150727T045900Z
CATEGORIES:fly-in
LOCATION:EAA Oshkosh
WEBSITE:http://www.eaa.org/en/airventure
URL:http://www.eaa.org/en/airventure
CONTACT:
ORGANIZER:EAA
ATTACH;FMTTYPE="image/jpeg":http://storage.ning.com/topology/rest/1.0/
 file/get/2268457713?profile=original
ATTENDEE;ROLE=REQ-PARTICIPANT;PARTSTAT=ACCEPTED;RSVP=TRUE;CN="Zenith.A
 ero":https://zenith.aero/profile/Admin
ATTENDEE;ROLE=REQ-PARTICIPANT;PARTSTAT=ACCEPTED;RSVP=TRUE;CN="Michael 
 Stewart":https://zenith.aero/profile/MichaelStewart
ATTENDEE;ROLE=REQ-PARTICIPANT;PARTSTAT=ACCEPTED;RSVP=TRUE;CN="Wayne Cl
 agg":https://zenith.aero/profile/WayneClagg
ATTENDEE;ROLE=REQ-PARTICIPANT;PARTSTAT=ACCEPTED;RSVP=TRUE;CN="Spencer 
 Rice":https://zenith.aero/profile/SpencerRice
END:VEVENT
END:VCALENDAR
