BEGIN:VCALENDAR
PRODID:NingEventWidget-v1
VERSION:2.0
METHOD:PUBLISH
BEGIN:VEVENT
UID:2606393:Event:366391
DTSTAMP:20260421T202951Z
SUMMARY:EAA Oshkosh Forum: ZENITH CH 750
DESCRIPTION:EAA forum presentation:\n\nSTOL CH 750 and the CH 750 Cruz
 er: Build and fly the all-metal light sport kit aircraft that best mee
 ts all requirements, for now and in the future. The CH 750 is a kit ai
 rplane with many modern features and great capabilities and can be bui
 lt in under 500 hours.\n\nFor more information visit https://zenith.ae
 ro/events/eaa-oshkosh-forum-zenith-ch-750
DTSTART:20140730T133000Z
DTEND:20140730T144500Z
CATEGORIES:eaa, forum, presentation
LOCATION:Forum 8 in the Forums Plaza at EAA AirVenture
WEBSITE:http://www.eaa.org/eaa/event/Zenith_CH_750?id=2391EE30937B450F
 B89EFABF9B33DC68
URL:http://www.eaa.org/eaa/event/Zenith_CH_750?id=2391EE30937B450FB89E
 FABF9B33DC68
CONTACT:
ORGANIZER:EAA
ATTACH;FMTTYPE="image/jpeg":http://storage.ning.com/topology/rest/1.0/
 file/get/2268405447?profile=original
ATTENDEE;ROLE=REQ-PARTICIPANT;PARTSTAT=ACCEPTED;RSVP=TRUE;CN="Zenith.A
 ero":https://zenith.aero/profile/Admin
END:VEVENT
END:VCALENDAR
