BEGIN:VCALENDAR
PRODID:NingEventWidget-v1
VERSION:2.0
METHOD:PUBLISH
BEGIN:VEVENT
UID:2606393:Event:257517
DTSTAMP:20260422T002428Z
SUMMARY:EAA Webinar: Demystifying Weight and Balance
DESCRIPTION:Demystifying Weight and Balance\nFred Keip, Technical Coun
 selor and Homebuilt Aircraft Council member, discusses the three easy 
 steps of correctly performing the weight and balance calculations need
 ed to certify your homebuilt aircraft project.\nEAA offers a regular s
 eries of webinars to its members. These live multimedia presentations 
 are informative and interactive, allowing the presenter to use slides 
 and audio, while audience members can ask questions, chat, or be polle
 d for their opinion. Registration is required, and space is limited. C
 lick the title of any of the presentations to register.\n\nFor more in
 formation visit https://zenith.aero/events/eaa-webinar-fuel-system-tes
 ting
DTSTART:20130530T000000Z
DTEND:20130530T013000Z
CATEGORIES:eaa, webinar
LOCATION:Online webinae
WEBSITE:http://www.eaa.org/webinars/
URL:http://www.eaa.org/webinars/
CONTACT:
ORGANIZER;CN="Zenith.Aero":https://zenith.aero/profile/Admin
ATTACH;FMTTYPE="image/jpeg":http://storage.ning.com/topology/rest/1.0/
 file/get/2268328038?profile=original
ATTENDEE;ROLE=REQ-PARTICIPANT;PARTSTAT=ACCEPTED;RSVP=TRUE;CN="Zenith.A
 ero":https://zenith.aero/profile/Admin
END:VEVENT
END:VCALENDAR
