BEGIN:VCALENDAR
PRODID:NingEventWidget-v1
VERSION:2.0
METHOD:PUBLISH
BEGIN:VEVENT
UID:2606393:Event:544386
DTSTAMP:20260422T002428Z
SUMMARY:EAA Webinar: Exploring the Zenith 750 Cruzer Design in SOLIDWO
 RKS
DESCRIPTION:Exploring the Zenith 750 Cruzer Design in SOLIDWORKS Wed. 
 February 8 - 7 p.m. CST Presenter: Sebastien Heintz, Zenith Aircraft C
 ompany\n\n\n\nMore details about SolidWorks\n\n\n\n\nFor more informat
 ion visit https://zenith.aero/events/eaa-webinar-solidworks
DTSTART:20170209T010000Z
DTEND:20170209T023000Z
CATEGORIES:webinar
LOCATION:Webinar
WEBSITE:http://go.eaa.org/p0600S0gvU060TKEOB0hGB3
URL:http://go.eaa.org/p0600S0gvU060TKEOB0hGB3
CONTACT:
ORGANIZER;CN="Zenith.Aero":https://zenith.aero/profile/Admin
ATTACH;FMTTYPE="image/jpeg":http://storage.ning.com/topology/rest/1.0/
 file/get/2268513192?profile=original
ATTENDEE;ROLE=REQ-PARTICIPANT;PARTSTAT=ACCEPTED;RSVP=TRUE;CN="William 
 Stewart":https://zenith.aero/profile/WilliamStewart
ATTENDEE;ROLE=REQ-PARTICIPANT;PARTSTAT=ACCEPTED;RSVP=TRUE;CN="RJ Ress"
 :https://zenith.aero/profile/RJRess
ATTENDEE;ROLE=REQ-PARTICIPANT;PARTSTAT=ACCEPTED;RSVP=TRUE;CN="Greg Dun
 can":https://zenith.aero/profile/GregDuncan
ATTENDEE;ROLE=REQ-PARTICIPANT;PARTSTAT=ACCEPTED;RSVP=TRUE;CN="Michael 
 Doornbos":https://zenith.aero/profile/MichaelDoornbos
ATTENDEE;ROLE=REQ-PARTICIPANT;PARTSTAT=ACCEPTED;RSVP=TRUE;CN="Zenith.A
 ero":https://zenith.aero/profile/Admin
END:VEVENT
END:VCALENDAR
