BEGIN:VCALENDAR
PRODID:NingEventWidget-v1
VERSION:2.0
METHOD:PUBLISH
BEGIN:VEVENT
UID:2606393:Event:858542
DTSTAMP:20260419T232538Z
SUMMARY:EAA Webinar: Zenith Aircraft Kits & Plans (as part of EAA Home
 builders Week)
DESCRIPTION:Join EAA on January 24-28, 2022, during the second-annual
  EAA Homebuilders Week online event. Experts from the homebuilt aircra
 ft community will bring their knowledge and information to builders ev
 erywhere through free and interactive webinars. Topics covered include
  workshops on sheet metal, welding, and wood; aircraft designs from a 
 variety of industry leaders; part selection when building; buying seco
 ndhand; and more.\r\n\r\n\r\nZenith Webinar is part of the EAA Homeb
 uilders Week: Zenith Aircraft Kits & Plans Wed, Jan 26, 2022, 2:30 - 3
 :45 p.m. CST\r\nPresenters: Roger Dubbert and Sebastien Heintz\r\n\"Ze
 nith Aircraft offers both high wing and low wing kits that are fun to 
 fly and easy to build. They also offer plans for those on a tight budg
 et. In this session, Zenith Aircraft's Sebastien Heintz and Roger Dubb
 ert will discuss their designs and engine options to help you decide i
 f this is the kit to build.\"\r\nFree webinar. Registration is require
 d. Sign up here\r\n \r\n\r\n \r\nThis five-day event coincides with 
 the 69th anniversary of the first Experimental Aircraft Association me
 eting on January 26, 1953. Homebuilders Week will be a tremendous lear
 ning opportunity that celebrates our legacy of, as EAA founder Paul Po
 berezny often said, using hand and mind to create aircraft that allow 
 us to enjoy the personal freedom of flight!\r\n \r\n\r\n\n\nFor more 
 information visit https://zenith.aero/events/eaa-webinar-zenith-aircra
 ft-kits-plans-as-part-of-eaa
DTSTART:20220126T203000Z
DTEND:20220126T214500Z
CATEGORIES:virtual, online, class
LOCATION:Online
WEBSITE:https://pages.eaa.org/WBN2022-01-26ZenithAircraftKitsPlans_LP-
 Registration.html
URL:https://pages.eaa.org/WBN2022-01-26ZenithAircraftKitsPlans_LP-Regi
 stration.html
CONTACT:
ORGANIZER:EAA
ATTACH;FMTTYPE="image/jpeg":https://storage.ning.com/topology/rest/1.0
 /file/get/10018634284?profile=original
ATTENDEE;ROLE=REQ-PARTICIPANT;PARTSTAT=ACCEPTED;RSVP=TRUE;CN="Alan Lan
 sing":https://zenith.aero/profile/AlanLansing
ATTENDEE;ROLE=REQ-PARTICIPANT;PARTSTAT=ACCEPTED;RSVP=TRUE;CN="Klaus Ge
 bert":https://zenith.aero/profile/KlausGebert
ATTENDEE;ROLE=REQ-PARTICIPANT;PARTSTAT=ACCEPTED;RSVP=TRUE;CN="Phil Mar
 tineau":https://zenith.aero/profile/PhilMartineau
ATTENDEE;ROLE=REQ-PARTICIPANT;PARTSTAT=ACCEPTED;RSVP=TRUE;CN="Jeff Jon
 es":https://zenith.aero/profile/JeffJones
ATTENDEE;ROLE=REQ-PARTICIPANT;PARTSTAT=ACCEPTED;RSVP=TRUE;CN="Zenith A
 ero":https://zenith.aero/profile/ZenithAero
ATTENDEE;ROLE=REQ-PARTICIPANT;PARTSTAT=TENTATIVE;RSVP=TRUE;CN="Josef W
 ojtanka":https://zenith.aero/profile/JosefWojtanka
ATTENDEE;ROLE=REQ-PARTICIPANT;PARTSTAT=TENTATIVE;RSVP=TRUE;CN="George 
 Snedeker":https://zenith.aero/profile/GeorgeSnedeker
ATTENDEE;ROLE=REQ-PARTICIPANT;PARTSTAT=TENTATIVE;RSVP=TRUE;CN="Gordon 
 Munck":https://zenith.aero/profile/GordonMunck
END:VEVENT
END:VCALENDAR
