BEGIN:VCALENDAR
PRODID:NingEventWidget-v1
VERSION:2.0
METHOD:PUBLISH
BEGIN:VEVENT
UID:2606393:Event:437462
DTSTAMP:20260421T004338Z
SUMMARY:ZENITH BUILDERS BANQUET AT OSHKOSH AIRVENTURE  2015
DESCRIPTION:ZENITH BUILDERS BANQUET AT OSHKOSH AIRVENTURE 2015\nNow th
 at the snow is melting in Oshkosh, I can feel that sensation of EAA fe
 ver! The countdown is on for another spectacular event. Just announced
  today, this year's EAA convention will include a B-52 Bomber on displ
 ay for the first time ever for an EAA convention!\nRight now I have th
 e preliminary information for the Zenith Builders Banquet I would like
  to pass along to the builders and enthusiasts. This year's banquet we
  be held at the Oshkosh Elks Lodge, 175 W Fernau Ave, Oshkosh, WI 5490
 1, the same place as last year's banquet. The date is Thursday night, 
 July 23rd. The bar will open and serve cocktails at 5:30, with dinner 
 following at 7:30.\nOn the menu this year will be the Elks Lodge famou
 s glazed pineapple ham, broasted chicken, butter parsley potatoes, Cal
 ifornia blend vegetables, bread, salad, and coffee.\nSeeing that we wi
 ll have a projector and screen this year, I would like to ask Zenith b
 uilders to send me your very best high resolution JPEG pictures via E-
 mail. I will put together a presentation and we can play it during the
  cocktail and dinner segment. It will be a fun way to show off your pr
 ojects, and to maybe show some of your building pictures to the Zenith
  family. If you want a caption added, just write a little something an
 d I will insert it in the presentation.\nAs always, there will be a fe
 w surprises, and I will give those details along with the door prize l
 ist as things progress.\nThis year our banquet has it's own Facebook p
 age! Please go to FACEBOOK and type in \"Zenith Banquet\". Enter \"clo
 se friend\" and \"get notifications\" so you will be able to get all o
 f the announcements as we go. I am just posting the pictures tonight a
 nd it should be fully functional in a week or so. Please log on and \"
 Friend\" the banquet page to you can get up to date news immediately!\
 nPrice for the banquet this year remains the same as last year. The co
 st is set at $20 per ticket and you can get them in the same way as la
 st year. Tickets will be available at the Zenith booth, and you will b
 e able to use PayPal again for faster service. To buy tickets with Pay
 Pal, just go to the PayPal site and send $20 per ticket to backstageli
 ve@gmail.com. To buy your tickets by mail, send $20 per ticket and a r
 eturn stamp to Joe Scheibinger, 2809 Scenic Drive, Oshkosh, WI 54904. 
 That way you get your tickets by mail along with a brochure that gives
  directions to the Elks, a time table of Zenith events, and travel inf
 ormation for the local bus routes.\nIf you are planning to fly your pl
 ane to the convention, parking information will be added in the next E
 -mail. It will basically be the same as last year.\nFor more informati
 on and suggestions please contact Joe Scheibinger at 920-237-1450, or 
 e-mail Joe at backstagelive@gmail.com, or go to the \"Zenith Banquet\"
  Facebook page.\n\n\nZenith activities at Oshkosh AirVenture 2015\n\n\
 n\nFor more information visit https://zenith.aero/events/eaa-zenith-bu
 ilders-banquet-at-oshkosh-airventure-2015
DTSTART:20150723T230000Z
DTEND:20150724T020000Z
CATEGORIES:dinner
LOCATION:Oshkosh Elks Lodge
WEBSITE:https://www.facebook.com/profile.php?id=100009214490632
URL:https://www.facebook.com/profile.php?id=100009214490632
CONTACT:920-237-1450
ORGANIZER:Joe Scheibinger
ATTACH;FMTTYPE="image/jpeg":http://storage.ning.com/topology/rest/1.0/
 file/get/2268245261?profile=original
ATTENDEE;ROLE=REQ-PARTICIPANT;PARTSTAT=ACCEPTED;RSVP=TRUE;CN="Zenith.A
 ero":https://zenith.aero/profile/Admin
ATTENDEE;ROLE=REQ-PARTICIPANT;PARTSTAT=ACCEPTED;RSVP=TRUE;CN="Walt Sny
 der":https://zenith.aero/profile/WaltSnyder189
ATTENDEE;ROLE=REQ-PARTICIPANT;PARTSTAT=ACCEPTED;RSVP=TRUE;CN="Raymond 
 White":https://zenith.aero/profile/RaymondWhite
END:VEVENT
END:VCALENDAR
