BEGIN:VCALENDAR
PRODID:NingEventWidget-v1
VERSION:2.0
METHOD:PUBLISH
BEGIN:VEVENT
UID:2606393:Event:343138
DTSTAMP:20260423T060119Z
SUMMARY:Zenith Aircraft \"Fly In to Summer\" Open House and Builder Fl
 y-In
DESCRIPTION:Join us for our annual \"Fly In To Summer\" Builder Fly-In
  Gathering at the Zenith Aircraft Factory: Saturday, June 20, 2015.\n
 This is an informal grass-roots Zenith fly-in and builder gathering he
 ld at the kit manufacturing factory in Mexico, Missouri.\n\n\nThe Ze
 nith Aircraft factory will be open from 8:00 am - 2:00 pm for self-g
 uided factory tours, demonstrations, and more. Hot lunch and refreshme
 nts will be available (from Steinman Catering) and we'll also have cof
 fee in the morning from Flying High Coffee Co. \n\nFor more informat
 ion visit https://zenith.aero/events/fly-in-to-summer-2014
DTSTART:20150620T130000Z
DTEND:20150620T190000Z
CATEGORIES:fly-in, "fly in", summer, spring, "open house", zenith
LOCATION:Zenith Aircraft factory in Mexico, Missouri
WEBSITE:http://www.zenith.aero/profiles/blogs/fly-in-to-summer-2015
URL:http://www.zenith.aero/profiles/blogs/fly-in-to-summer-2015
CONTACT:573-581-9000
ORGANIZER:Zenith Aircraft Company
ATTACH;FMTTYPE="image/jpeg":http://storage.ning.com/topology/rest/1.0/
 file/get/2268385915?profile=original
ATTENDEE;ROLE=REQ-PARTICIPANT;PARTSTAT=ACCEPTED;RSVP=TRUE;CN="Zenith.A
 ero":https://zenith.aero/profile/Admin
ATTENDEE;ROLE=REQ-PARTICIPANT;PARTSTAT=ACCEPTED;RSVP=TRUE;CN="Bill Lan
 man":https://zenith.aero/profile/BillLanman
ATTENDEE;ROLE=REQ-PARTICIPANT;PARTSTAT=ACCEPTED;RSVP=TRUE;CN="Randy St
 out":https://zenith.aero/profile/Randy
ATTENDEE;ROLE=REQ-PARTICIPANT;PARTSTAT=ACCEPTED;RSVP=TRUE;CN="Roger Du
 bbert":https://zenith.aero/profile/RogerDubbert
ATTENDEE;ROLE=REQ-PARTICIPANT;PARTSTAT=ACCEPTED;RSVP=TRUE;CN="Keith As
 hcraft":https://zenith.aero/profile/KeithAshcraft
ATTENDEE;ROLE=REQ-PARTICIPANT;PARTSTAT=ACCEPTED;RSVP=TRUE;CN="Jon Crok
 e":https://zenith.aero/profile/JonCroke
ATTENDEE;ROLE=REQ-PARTICIPANT;PARTSTAT=TENTATIVE;RSVP=TRUE;CN="Dan Sta
 nton":https://zenith.aero/profile/DanStanton
ATTENDEE;ROLE=REQ-PARTICIPANT;PARTSTAT=TENTATIVE;RSVP=TRUE;CN="Herman 
 Eshuis":https://zenith.aero/profile/HermanEshuis
END:VEVENT
END:VCALENDAR
