BEGIN:VCALENDAR
PRODID:NingEventWidget-v1
VERSION:2.0
METHOD:PUBLISH
BEGIN:VEVENT
UID:2606393:Event:907293
DTSTAMP:20260422T002612Z
SUMMARY:Garmin Experimental Avionics for Zenith Aircraft
DESCRIPTION:From Brad Brensing @ Garmin Avionics: \"With OSHKOSH quick
 ly approaching I wanted to provide a webinar covering all of the avion
 ics options form Garmin - from G5 to G3XT and everything in between. S
 peaking with many of you at the show, the feedback has been to receive
  some pre-planning guidance to narrow down selections while attending 
 Airventure! Or if you're new to the system and options, this will be a
  great general overview. It will take place this Friday, June 30th at 
 11am central time.\"\r\nMore info: https://fb.me/e/6RHdrKiDz\r\n\r\n\n
 \nFor more information visit https://zenith.aero/events/garmin-experim
 ental-avionics-for-zenith-aircraft
DTSTART:20230630T160000Z
DTEND:20230630T170000Z
CATEGORIES:webinar
LOCATION:Webinar
WEBSITE:https://register.gotowebinar.com/register/5131515756925507159?
 fbclid=IwAR0wZUrBBBBoxFNwbfza_Lay_Kw6CJ8r3ycZ-xKK0y5UTzzbmO9SfFuk9IM
URL:https://register.gotowebinar.com/register/5131515756925507159?fbcl
 id=IwAR0wZUrBBBBoxFNwbfza_Lay_Kw6CJ8r3ycZ-xKK0y5UTzzbmO9SfFuk9IM
CONTACT:
ORGANIZER;CN="Zenith Aero":https://zenith.aero/profile/ZenithAero
ATTACH;FMTTYPE="image/jpeg":
ATTENDEE;ROLE=REQ-PARTICIPANT;PARTSTAT=ACCEPTED;RSVP=TRUE;CN="Steve Da
 nielson":https://zenith.aero/profile/SteveDanielson
ATTENDEE;ROLE=REQ-PARTICIPANT;PARTSTAT=ACCEPTED;RSVP=TRUE;CN="Zenith A
 ero":https://zenith.aero/profile/ZenithAero
END:VEVENT
END:VCALENDAR
