BEGIN:VCALENDAR
PRODID:NingEventWidget-v1
VERSION:2.0
METHOD:PUBLISH
BEGIN:VEVENT
UID:2606393:Event:24635
DTSTAMP:20260423T145250Z
SUMMARY:Golden west flyin   west coast reginal EAA flyin
DESCRIPTION:QSP [quality sport planes] is attending the Golden west fl
 yin we will have our regulor disply area. A 701stol &and Christopher D
 esmond will be displaying his 801 on steroids. Also Woody Harris and h
 is corvair powered 601xl along with Stephen Smiths coast to coast 601x
 l. Hope to see all our friends there. June 12-13-14th at marysville ai
 rport in northern calif.\n\nFor more information visit https://zenith.
 aero/events/golden-west-flyin-west-coast
DTSTART:20090612T050000Z
DTEND:20090615T045900Z
CATEGORIES:eaa, west, coast, flyin
LOCATION:marysville calif.
WEBSITE:
URL:
CONTACT:
ORGANIZER:
ATTACH;FMTTYPE="image/jpeg":
ATTENDEE;ROLE=REQ-PARTICIPANT;PARTSTAT=ACCEPTED;RSVP=TRUE;CN="Doug Dug
 ger":https://zenith.aero/profile/DougDugger
ATTENDEE;ROLE=REQ-PARTICIPANT;PARTSTAT=TENTATIVE;RSVP=TRUE;CN="Stephen
  R. Smith":https://zenith.aero/profile/StephenRSmith
END:VEVENT
END:VCALENDAR
