BEGIN:VCALENDAR
PRODID:NingEventWidget-v1
VERSION:2.0
METHOD:PUBLISH
BEGIN:VEVENT
UID:2606393:Event:849411
DTSTAMP:20260419T202604Z
SUMMARY:Zenith Hands-On Workshop in Texas: February 11 & 12, 2022
DESCRIPTION:(Above, photo from the 2021 Texas event. View video)\r\n\r
 \nFULL WORKSHOPThis workshop class has reached capacity. Contact us if
  you are interested in participating as an observer (as opposed to an 
 actual participant).\r\n\r\nZenith Aircraft Company is returning to so
 uthwestern Texas to host its popular hands-on kit aircraft building wo
 rkshop. The two-day workshop will be held February 11 & 12, 2022, at 
 Boerne Stage Airfield (5C1), north of San Antonio, Texas.\r\n\r\nMore 
 info about this event in Texas  \r\n\r\n\r\nZenith Aircraft Company's
  hands-on workshops have become popular with sport aviation enthusiast
 s, giving them the opportunity to gain valuable kit aircraft building 
 experience in assembling their own Zenith Aircraft kit plane. Particip
 ants get the opportunity to actually start assembling kit parts under 
 the direction and guidance of factory professionals.\r\nParticipants \
 "graduate\" from the workshop upon completing construction of their ow
 n aircraft rudder tail section for one of Zenith Aircraft Company's po
 pular kit aircraft designs, including the popular new Zenith CH 750 se
 ries or the sleek CH 650 cruiser.\r\nThis event is graciously hosted 
 once again by Zenith builder/pilot Bill Fahey, who is providing his 4
 0' x 50' hangar that will accommodate 12 workstations with ease. Conta
 ct Bill Fahey with any questions about the location, facilities, and s
 urrounding area:  Telephone: 210-632-4708  \r\nDetails / Sign Up\r\n\n
 \nFor more information visit https://zenith.aero/events/hands-on-works
 hop-class-in-texas-february-18-19-2022
DTSTART:20220211T150000Z
DTEND:20220212T210000Z
CATEGORIES:workshop
LOCATION:Boerne Stage Airfield (5C1), north of San Antonio, Texas
WEBSITE:http://www.zenith.aero/profiles/blogs/texas-workshop-2022
URL:http://www.zenith.aero/profiles/blogs/texas-workshop-2022
CONTACT:573-581-9000
ORGANIZER:Zenith Aircraft Co.
ATTACH;FMTTYPE="image/jpeg":https://storage.ning.com/topology/rest/1.0
 /file/get/8322114863?profile=original
ATTENDEE;ROLE=REQ-PARTICIPANT;PARTSTAT=ACCEPTED;RSVP=TRUE;CN="Zenith A
 ero":https://zenith.aero/profile/ZenithAero
ATTENDEE;ROLE=REQ-PARTICIPANT;PARTSTAT=ACCEPTED;RSVP=TRUE;CN="Sebastie
 n Heintz":https://zenith.aero/profile/SHeintz
ATTENDEE;ROLE=REQ-PARTICIPANT;PARTSTAT=ACCEPTED;RSVP=TRUE;CN="Alex Roc
 a":https://zenith.aero/profile/AlexRoca
END:VEVENT
END:VCALENDAR
