BEGIN:VCALENDAR
PRODID:NingEventWidget-v1
VERSION:2.0
METHOD:PUBLISH
BEGIN:VEVENT
UID:2606393:Event:487365
DTSTAMP:20260424T062127Z
SUMMARY:Lynn Beckhorn
DESCRIPTION:I hope to be there also.  \n\nFor more information visit 
 https://zenith.aero/events/lynn-beckhorn
DTSTART:20160209T000000Z
DTEND:20160209T010000Z
CATEGORIES:arlington, airshow
LOCATION:Arlington, WA
WEBSITE:
URL:
CONTACT:
ORGANIZER:John Marzulli
ATTACH;FMTTYPE="image/jpeg":http://storage.ning.com/topology/rest/1.0/
 file/get/2131707359?profile=original
ATTENDEE;ROLE=REQ-PARTICIPANT;PARTSTAT=ACCEPTED;RSVP=TRUE;CN="Lynn S. 
 Beckhorn":https://zenith.aero/profile/LynnSBeckhorn
END:VEVENT
END:VCALENDAR
