BEGIN:VCALENDAR
PRODID:NingEventWidget-v1
VERSION:2.0
METHOD:PUBLISH
BEGIN:VEVENT
UID:2606393:Event:17483
DTSTAMP:20260423T174628Z
SUMMARY:McMinn Fly-IN (Alabama)
DESCRIPTION:Don't forget our Fly-in at McMinn Airport on Saturday Morn
 ing. Meet other pilots and owners. McMinn is a Private-Owned Public Us
 e Airport\nThe airport is located between Birmingham, AL and Atlanta, 
 GA. (25A) Rain Date is May 23, 2009.\n\nFor more information visit htt
 ps://zenith.aero/events/mcminn-flyin-alabama
DTSTART:20090516T050000Z
DTEND:20090517T045900Z
CATEGORIES:fly-in
LOCATION:McMinn Airport 25A
WEBSITE:http://www.n701rr.com/saw/
URL:http://www.n701rr.com/saw/
CONTACT:
ORGANIZER:Tommy Walker/Rick Roberts
ATTACH;FMTTYPE="image/jpeg":
ATTENDEE;ROLE=REQ-PARTICIPANT;PARTSTAT=ACCEPTED;RSVP=TRUE;CN="Tommy Wa
 lker":https://zenith.aero/profile/TommyWalker
END:VEVENT
END:VCALENDAR
