BEGIN:VCALENDAR
PRODID:NingEventWidget-v1
VERSION:2.0
METHOD:PUBLISH
BEGIN:VEVENT
UID:2606393:Event:352240
DTSTAMP:20260421T185946Z
SUMMARY:EAA AirVenture Oshkosh: \"One Week Wonder\" project
DESCRIPTION:Join us at Oshkosh AirVentureÂ and be a part of the One We
 ek Wonder projectÂ airplaneÂ as we build a Zenith CH 750 Cruzer during
  the seven day fly-in convention. Â View Map\nThis year will be our bi
 ggest year ever at Oshkosh with the return of the One Week Wonder proj
 ect.Â \n\nWe hope that many of you are able to join us! Â \nWe have a 
 challenging and exciting week ahead of us as we work to build a Zenith
  CH 750 Cruzer in one week in front of the entire aviation community. 
 This will be the biggest opportunity, ever, to promote homebuilding at
  AirVenture!\nWe will kick off the project at 8:00 a.m. sharp on Monda
 y, July 28, with EAA's Jack Pelton starting the countdown timer. We in
 vite you to be thereÂ for the start of the project!\nEAA has erected a
  large tent where the project will be constructed right on EAA SquareÂ
  (corner of Celebration Way and Knapp Street Road across from EAA Welc
 ome Center), providing an excellent facility to build the airplane, lo
 cated right in the center of the EAA convention grounds! View Map.\n\n
 Many of you have already signed up as volunteer buildersÂ on this proj
 ect, and we look forward to seeing many more of you at Oshkosh! Â Stop
  by the One Week Wonder project and pull a rivet.Â  By doing so, you w
 ill get a One Week Wonder pin, be entered in the Worldâ€™s Largest Bui
 lders Log, and receive a photo via email for sharing!\nWe'll be workin
 g on the project throughout the entire week, and if all goes as planne
 d, we will taxi the aircraft on Sunday at approximatelyÂ 3:00 p.m.Â (r
 ight before the Thunderbirds perform).Â \n\nMore infoÂ on this histori
 c event and how you can be a part of it.\n\nAlso, be sure to visit the
  Zenith Aircraft Booth in the North Aircraft Display Area #641 (same a
 s last year) to see the planes and visit with the Zenith staff (and fe
 llow Zenith builders!).\n\nOshkosh 2014 PreviewÂ (more events and acti
 vities)\n\nView Map\n\nFor more information visit https://zenith.aero/
 events/one-week-wonder
DTSTART:20140728T050000Z
DTEND:20140804T045900Z
CATEGORIES:fly-in, workshop
LOCATION:Oshkosh , WI
WEBSITE:http://www.airventure.org/attractions/wonder.html
URL:http://www.airventure.org/attractions/wonder.html
CONTACT:
ORGANIZER:EAA
ATTACH;FMTTYPE="image/jpeg":http://storage.ning.com/topology/rest/1.0/
 file/get/2268393484?profile=original
ATTENDEE;ROLE=REQ-PARTICIPANT;PARTSTAT=ACCEPTED;RSVP=TRUE;CN="Zenith.A
 ero":https://zenith.aero/profile/Admin
END:VEVENT
END:VCALENDAR
