BEGIN:VCALENDAR
PRODID:NingEventWidget-v1
VERSION:2.0
METHOD:PUBLISH
BEGIN:VEVENT
UID:2606393:Event:48805
DTSTAMP:20260424T013836Z
SUMMARY:24th Annual Zenith OPEN HANGAR DAY and builder fly-in gatherin
 g
DESCRIPTION:Join us at the 24th annual OPEN HANGAR DAY and Builder Fly
 -In Gathering at the Zenith factory in Mexico, Missouri. As in years p
 ast we'll have numerous events for builders and pilots of Zenith kit p
 lanes (as well as enthusiasts) starting on Friday (Sept. 18) afternoon
 . We'll present seminars and workshops (to be announced), and host a b
 uilder dinner / social for Friday evening.\n\nCheck our Facebook event
  page for the latest news and updates.\n\n\nFor more information visi
 t https://zenith.aero/events/open-hangar-day
DTSTART:20150919T130000Z
DTEND:20150919T190000Z
CATEGORIES:fly-in
LOCATION:Zenith Aircraft factory
WEBSITE:http://www.zenithair.com/events.htm
URL:http://www.zenithair.com/events.htm
CONTACT:573-581-9000
ORGANIZER:Zenith Aircraft Co.
ATTACH;FMTTYPE="image/jpeg":http://storage.ning.com/topology/rest/1.0/
 file/get/2268243657?profile=original
ATTENDEE;ROLE=REQ-PARTICIPANT;PARTSTAT=ACCEPTED;RSVP=TRUE;CN="Clint L 
 Gosch":https://zenith.aero/profile/ClintLGosch
ATTENDEE;ROLE=REQ-PARTICIPANT;PARTSTAT=ACCEPTED;RSVP=TRUE;CN="Robert A
 udsley":https://zenith.aero/profile/RobertAudsley
ATTENDEE;ROLE=REQ-PARTICIPANT;PARTSTAT=ACCEPTED;RSVP=TRUE;CN="Vance Lu
 cas":https://zenith.aero/profile/VanceLucas
ATTENDEE;ROLE=REQ-PARTICIPANT;PARTSTAT=ACCEPTED;RSVP=TRUE;CN="Patrick 
 Hoyt":https://zenith.aero/profile/PatrickHoyt
ATTENDEE;ROLE=REQ-PARTICIPANT;PARTSTAT=ACCEPTED;RSVP=TRUE;CN="Bruce cr
 um":https://zenith.aero/profile/Brucecrum
ATTENDEE;ROLE=REQ-PARTICIPANT;PARTSTAT=ACCEPTED;RSVP=TRUE;CN="Doug Mac
 Donald":https://zenith.aero/profile/DougMacDonald
ATTENDEE;ROLE=REQ-PARTICIPANT;PARTSTAT=ACCEPTED;RSVP=TRUE;CN="Daniel S
 teveson":https://zenith.aero/profile/DanielSteveson
ATTENDEE;ROLE=REQ-PARTICIPANT;PARTSTAT=ACCEPTED;RSVP=TRUE;CN="Brad W. 
 Eikenbary":https://zenith.aero/profile/BradWEikenbary
ATTENDEE;ROLE=REQ-PARTICIPANT;PARTSTAT=ACCEPTED;RSVP=TRUE;CN="Dale Med
 endorp":https://zenith.aero/profile/DaleMedendorp
ATTENDEE;ROLE=REQ-PARTICIPANT;PARTSTAT=ACCEPTED;RSVP=TRUE;CN="Robert N
 . Eli":https://zenith.aero/profile/RobertNEli
ATTENDEE;ROLE=REQ-PARTICIPANT;PARTSTAT=ACCEPTED;RSVP=TRUE;CN="William 
 K. Sewell":https://zenith.aero/profile/WilliamKSewell
ATTENDEE;ROLE=REQ-PARTICIPANT;PARTSTAT=ACCEPTED;RSVP=TRUE;CN="Jacky Wi
 nters":https://zenith.aero/profile/JackyWinters
ATTENDEE;ROLE=REQ-PARTICIPANT;PARTSTAT=ACCEPTED;RSVP=TRUE;CN="Gene Kuj
 awa":https://zenith.aero/profile/GeneKujawa
ATTENDEE;ROLE=REQ-PARTICIPANT;PARTSTAT=ACCEPTED;RSVP=TRUE;CN="Gus Warr
 en":https://zenith.aero/profile/GusWarren
ATTENDEE;ROLE=REQ-PARTICIPANT;PARTSTAT=ACCEPTED;RSVP=TRUE;CN="Lee Enge
 l":https://zenith.aero/profile/LeeEngel
ATTENDEE;ROLE=REQ-PARTICIPANT;PARTSTAT=ACCEPTED;RSVP=TRUE;CN="Paul V. 
 Hoynacki":https://zenith.aero/profile/PaulVHoynacki
ATTENDEE;ROLE=REQ-PARTICIPANT;PARTSTAT=ACCEPTED;RSVP=TRUE;CN="Mark Kik
 endall":https://zenith.aero/profile/MarkKikendall
ATTENDEE;ROLE=REQ-PARTICIPANT;PARTSTAT=ACCEPTED;RSVP=TRUE;CN="Jimmy Yo
 ung":https://zenith.aero/profile/JimmyYoung
ATTENDEE;ROLE=REQ-PARTICIPANT;PARTSTAT=ACCEPTED;RSVP=TRUE;CN="Rick DeB
 ord":https://zenith.aero/profile/RickDeBord
ATTENDEE;ROLE=REQ-PARTICIPANT;PARTSTAT=ACCEPTED;RSVP=TRUE;CN="Mason Bu
 llard":https://zenith.aero/profile/MasonBullard
ATTENDEE;ROLE=REQ-PARTICIPANT;PARTSTAT=ACCEPTED;RSVP=TRUE;CN="Zenith.A
 ero":https://zenith.aero/profile/Admin
ATTENDEE;ROLE=REQ-PARTICIPANT;PARTSTAT=TENTATIVE;RSVP=TRUE;CN="Clay E 
 Hollenback":https://zenith.aero/profile/ClayEHollenback
ATTENDEE;ROLE=REQ-PARTICIPANT;PARTSTAT=TENTATIVE;RSVP=TRUE;CN="Floyd E
 . Gantt":https://zenith.aero/profile/FloydEGantt
ATTENDEE;ROLE=REQ-PARTICIPANT;PARTSTAT=TENTATIVE;RSVP=TRUE;CN="Don Wal
 ker":https://zenith.aero/profile/DonWalker
END:VEVENT
END:VCALENDAR
