BEGIN:VCALENDAR
PRODID:NingEventWidget-v1
VERSION:2.0
METHOD:PUBLISH
BEGIN:VEVENT
UID:2606393:Event:728581
DTSTAMP:20260421T105445Z
SUMMARY:\"Oshkosh Week\" at the Zenith Aircraft kit factory
DESCRIPTION:Start (or continue) building your kit airplane at the Zeni
 th Aircraft factory during \"Oshkosh Week\" - July 20 - 24\r\nWhile w
 e are limiting visitor activities at the Zenith kit aircraft factory t
 o follow social distancing and other rules in effect at the time (to p
 rotect both visitors and employees from COVID-19), we are opening the
  factory to visitors for hands-on building projects during Oshkosh Wee
 k.\r\n\r\nStart (or continue) building your Zenith kit at the factory 
 during \"Oshkosh Week\" (July 20 - 24) with the guidance of factory p
 rofessionals.\r\nContact us to learn how you can started on your Zeni
 th kit inside the kit aircraft factory: Start assembling the wings, fu
 selage or tail sections of your Zenith kit during \"Oshkosh Week 2020\
 " to get a head start on your kit project.\r\nBuild the rudder starter
  kit at the factory during Oshkosh week\r\nWe'll plan to stream live e
 very day next week as we work on the kit projects, with opportunity fo
 r building Q&A\r\nCome out to the factory to help / watch others get s
 tarted on their kit project.\r\nCamp out \"Oshkosh-style\" at Mexico M
 emorial Airport.\r\n\r\n\r\n\r\nSee the Facebook event page for additi
 onal info and updates.\r\n\n\nFor more information visit https://zenit
 h.aero/events/oshkosh-2020
DTSTART:20200720T113000Z
DTEND:20200724T200000Z
CATEGORIES:workshop
LOCATION:Zenith Aircraft factory
WEBSITE:http://www.zenithair.com
URL:http://www.zenithair.com
CONTACT:5735819000
ORGANIZER;CN="Zenith Aero":https://zenith.aero/profile/ZenithAero
ATTACH;FMTTYPE="image/jpeg":https://storage.ning.com/topology/rest/1.0
 /file/get/6878235100?profile=original
ATTENDEE;ROLE=REQ-PARTICIPANT;PARTSTAT=ACCEPTED;RSVP=TRUE;CN="Sebastie
 n Heintz":https://zenith.aero/profile/SHeintz
ATTENDEE;ROLE=REQ-PARTICIPANT;PARTSTAT=ACCEPTED;RSVP=TRUE;CN="Zenith A
 ero":https://zenith.aero/profile/ZenithAero
END:VEVENT
END:VCALENDAR
