BEGIN:VCALENDAR
PRODID:NingEventWidget-v1
VERSION:2.0
METHOD:PUBLISH
BEGIN:VEVENT
UID:2606393:Event:676799
DTSTAMP:20260423T133910Z
SUMMARY:Quality Sport Planes Open House and Fly-In
DESCRIPTION:Quality Sport Planes is hosting its annual fly-in and reti
 rement party for Doug Dugger on Saturday, June 22!\r\n\r\nMore about t
 he event\r\n\r\n\r\nDoug Dugger will be retiring after running Quality
  Sport Planes for the past 10 years:\r\n\r\nCome check out the Zenith 
 planes and meet Ivan Gromala, the new manager and owner of Quality Spo
 rt Planes in Cloverdale, California.\r\nAbove, Ivan Gromala (second fr
 om right) at the Zenith Aircraft workshop.\r\n\r\nMore about the event
 \r\n\n\nFor more information visit https://zenith.aero/events/quality-
 sport-planes-fly-in-2019
DTSTART:20190622T150000Z
DTEND:20190622T210000Z
CATEGORIES:qsp, california, flyin
LOCATION:Cloverdale Airport (o60)
WEBSITE:http://qualitysportplanes.weebly.com/
URL:http://qualitysportplanes.weebly.com/
CONTACT:
ORGANIZER;CN="Ivan Gromala":https://zenith.aero/profile/IvanGromala
ATTACH;FMTTYPE="image/jpeg":https://storage.ning.com/topology/rest/1.0
 /file/get/2976677611?profile=original
ATTENDEE;ROLE=REQ-PARTICIPANT;PARTSTAT=ACCEPTED;RSVP=TRUE;CN="Ivan Gro
 mala":https://zenith.aero/profile/IvanGromala
ATTENDEE;ROLE=REQ-PARTICIPANT;PARTSTAT=ACCEPTED;RSVP=TRUE;CN="Stan Coo
 per":https://zenith.aero/profile/StanCooper
ATTENDEE;ROLE=REQ-PARTICIPANT;PARTSTAT=ACCEPTED;RSVP=TRUE;CN="Sebastie
 n Heintz":https://zenith.aero/profile/SHeintz
ATTENDEE;ROLE=REQ-PARTICIPANT;PARTSTAT=TENTATIVE;RSVP=TRUE;CN="Zenith 
 Aero":https://zenith.aero/profile/ZenithAero
END:VEVENT
END:VCALENDAR
