BEGIN:VCALENDAR
PRODID:NingEventWidget-v1
VERSION:2.0
METHOD:PUBLISH
BEGIN:VEVENT
UID:2606393:Event:273846
DTSTAMP:20260421T204533Z
SUMMARY:Quality Sport Planes Open Hangar Day
DESCRIPTION:Pilots, Builders and Friends,\nYou're invited to the West 
 Coast Zenith Fly-In at the Cloverdale Airport on May 3rd.  Lots to se
 e, come enjoy the fellowship of fellow friends and flyers.  Overnight
  camping under your wings with a possible fly-out on Sunday.  Bring y
 our camera.\nQSP Open Hangar Day flyer\n\n\nFor more information visit
  https://zenith.aero/events/quality-sport-planes-open-hangar-day
DTSTART:20140503T050000Z
DTEND:20140504T045900Z
CATEGORIES:open, hangar, day, and, fly-in
LOCATION:Cloverdale Airport, Cloverdale, CA  (o60)
WEBSITE:http://www.qualitysportplanes.com/coming-events.html
URL:http://www.qualitysportplanes.com/coming-events.html
CONTACT:707-894-4084
ORGANIZER:Doug & Lori Dugger
ATTACH;FMTTYPE="image/jpeg":http://storage.ning.com/topology/rest/1.0/
 file/get/2268379262?profile=original
ATTENDEE;ROLE=REQ-PARTICIPANT;PARTSTAT=ACCEPTED;RSVP=TRUE;CN="Jerry To
 lman":https://zenith.aero/profile/JerryT
ATTENDEE;ROLE=REQ-PARTICIPANT;PARTSTAT=ACCEPTED;RSVP=TRUE;CN="Dietrich
  Meyer":https://zenith.aero/profile/DietrichMeyer
ATTENDEE;ROLE=REQ-PARTICIPANT;PARTSTAT=ACCEPTED;RSVP=TRUE;CN="Timothy 
 E Kinney":https://zenith.aero/profile/TimothyEKinney
ATTENDEE;ROLE=REQ-PARTICIPANT;PARTSTAT=ACCEPTED;RSVP=TRUE;CN="Stephen 
 R. Smith":https://zenith.aero/profile/StephenRSmith
ATTENDEE;ROLE=REQ-PARTICIPANT;PARTSTAT=ACCEPTED;RSVP=TRUE;CN="Woody Ha
 rris":https://zenith.aero/profile/WoodyHarris
ATTENDEE;ROLE=REQ-PARTICIPANT;PARTSTAT=ACCEPTED;RSVP=TRUE;CN="Doug Dug
 ger":https://zenith.aero/profile/DougDugger
ATTENDEE;ROLE=REQ-PARTICIPANT;PARTSTAT=TENTATIVE;RSVP=TRUE;CN="Daniel 
 C Hall":https://zenith.aero/profile/DanielCHall
END:VEVENT
END:VCALENDAR
