BEGIN:VCALENDAR
PRODID:NingEventWidget-v1
VERSION:2.0
METHOD:PUBLISH
BEGIN:VEVENT
UID:2606393:Event:863987
DTSTAMP:20260424T074711Z
SUMMARY:Quality Sport Planes Open House and Zenith Fly-In (Cloverdale,
  California)
DESCRIPTION:After a two year hiatus (due to the Covid 19 pandemic), Qu
 ality Sport Planes is hosting its annual fly-in and open house on Satu
 rday, May 21, 2022 at its facility in Cloverdale, California.\r\n\r\nC
 heck out the Facebook event page for the latest updates and to share w
 ith your friends.  \r\n\r\nCome check out the Zenith planes and meet 
 Ivan Gromala, the manager and owner of Quality Sport Planes (QSP) in C
 loverdale, California. Ivan and his wife Nicole run QSP as an active 
 builder-assist center in the region and make sure Zenith kits are well
  represented at small regional fly-ins as well as at larger events on 
 the West Coast.\r\n\r\nRoger Dubbert from Zenith Aircraft Company plan
 s to attend the event to meet with Zenith builders and flyers.\r\n\r\n
 QSP and Zenith will be hosting a hands-on rudder workshop class immedi
 ately before the Open House and Fly-In, starting on Friday, May 20 (an
 d finishing on May 21). Prior registration in required for the worksho
 p class.\r\n\r\nCheck out the Facebook event page for the latest updat
 es and to share with your friends.\r\n\n\nFor more information visit h
 ttps://zenith.aero/events/quality-sport-planes-open-house-and-fly-in-c
 loverdale-california
DTSTART:20220521T130000Z
DTEND:20220521T210000Z
CATEGORIES:qsp, california, flyin
LOCATION:Cloverdale Airport (o60)
WEBSITE:http://qualitysportplanes.weebly.com/
URL:http://qualitysportplanes.weebly.com/
CONTACT:
ORGANIZER:Ivan Gromala
ATTACH;FMTTYPE="image/jpeg":https://storage.ning.com/topology/rest/1.0
 /file/get/2976677611?profile=original
ATTENDEE;ROLE=REQ-PARTICIPANT;PARTSTAT=ACCEPTED;RSVP=TRUE;CN="Zenith A
 ero":https://zenith.aero/profile/ZenithAero
END:VEVENT
END:VCALENDAR
