BEGIN:VCALENDAR
PRODID:NingEventWidget-v1
VERSION:2.0
METHOD:PUBLISH
BEGIN:VEVENT
UID:2606393:Event:342189
DTSTAMP:20260422T002517Z
SUMMARY:Quality Sport Planes Rudder Workshop
DESCRIPTION:Start your dream on March 7th at Quality Sport Planes in n
 orthern Calif.  This will be our first rudder workshop of 2014 contac
 t us at qspinfo@gmail.com or call 707-894-4084 Hope to see you there.\
 n\nFor more information visit https://zenith.aero/events/quality-sport
 -planes-rudder-workshop
DTSTART:20140307T060000Z
DTEND:20140309T055900Z
CATEGORIES:rudder, workshop
LOCATION:Cloverdale Calif.
WEBSITE:http://qualitysportplanes.com
URL:http://qualitysportplanes.com
CONTACT:707-894-4084
ORGANIZER;CN="Doug Dugger":https://zenith.aero/profile/DougDugger
ATTACH;FMTTYPE="image/jpeg":http://storage.ning.com/topology/rest/1.0/
 file/get/2268385952?profile=original
ATTENDEE;ROLE=REQ-PARTICIPANT;PARTSTAT=ACCEPTED;RSVP=TRUE;CN="Doug Dug
 ger":https://zenith.aero/profile/DougDugger
END:VEVENT
END:VCALENDAR
