BEGIN:VCALENDAR
PRODID:NingEventWidget-v1
VERSION:2.0
METHOD:PUBLISH
BEGIN:VEVENT
UID:2606393:Event:18680
DTSTAMP:20260423T205221Z
SUMMARY:Quality Sport Planes spring open house and flyin
DESCRIPTION:Welcome to the Spring Open House held at the Airport in Cl
 overdale, CA. this year we are combining our Open House with the City 
 of Cloverdales Airport Appreciation Day.\n\nThis event will be a great
  opportunity to get familiar with Quality Sport Planes the local Zenit
 h Aircraft representatives on the West coast. This year we will have S
 ebastien Heintz, the President of Zenith Aircraft Company and Roger a 
 representative and Pilot from Mexico, Missouri here for a visit and he
 lp with our Open House. If you haven't met them yet now will be a good
  opportunity to do so.\n\nYou will see and have a chance to speak with
  builders and pilots of the different Zenith Airplane kits. Also, you 
 can ask them questions and see the different engines they have used in
  their planes.\n\nOther events on the field:\n\nThere will be a BBQ Lu
 nch sponsored by the Local Lyons Club.\n\nEAA Chapter 124 will be on t
 he field sponsoring the Young Eagles. A great opportunity for kids age
 s 7-17 to experience a flight in an airplane. Stop by and register you
 r child early or make an appointment for a future day.\n\nThere is a n
 ew Sky Diving Business on the field, stop by and ask them for informat
 ion.\n\nThe hangars will be open a chance to see and talk to other air
 craft owners about their airplanes.\n\nFor more information visit http
 s://zenith.aero/events/quality-sport-planes-spring
DTSTART:20090509T140000Z
DTEND:20090509T210000Z
CATEGORIES:open, house
LOCATION:Cloverdale Airport
WEBSITE:
URL:
CONTACT:707-894-4084
ORGANIZER;CN="Doug Dugger":https://zenith.aero/profile/DougDugger
ATTACH;FMTTYPE="image/jpeg":
ATTENDEE;ROLE=REQ-PARTICIPANT;PARTSTAT=ACCEPTED;RSVP=TRUE;CN="Rick Lac
 h":https://zenith.aero/profile/RickLach
ATTENDEE;ROLE=REQ-PARTICIPANT;PARTSTAT=ACCEPTED;RSVP=TRUE;CN=rontheman
 13:https://zenith.aero/profile/rontheman13
ATTENDEE;ROLE=REQ-PARTICIPANT;PARTSTAT=ACCEPTED;RSVP=TRUE;CN="Andy Ell
 iott":https://zenith.aero/profile/AndyElliott
ATTENDEE;ROLE=REQ-PARTICIPANT;PARTSTAT=ACCEPTED;RSVP=TRUE;CN="Sebastie
 n Heintz":https://zenith.aero/profile/SHeintz
ATTENDEE;ROLE=REQ-PARTICIPANT;PARTSTAT=ACCEPTED;RSVP=TRUE;CN="Zenith.A
 ero":https://zenith.aero/profile/Admin
ATTENDEE;ROLE=REQ-PARTICIPANT;PARTSTAT=ACCEPTED;RSVP=TRUE;CN="Robert H
 athaway":https://zenith.aero/profile/RobertHathaway
ATTENDEE;ROLE=REQ-PARTICIPANT;PARTSTAT=ACCEPTED;RSVP=TRUE;CN="Woody Ha
 rris":https://zenith.aero/profile/WoodyHarris
ATTENDEE;ROLE=REQ-PARTICIPANT;PARTSTAT=ACCEPTED;RSVP=TRUE;CN="Stephen 
 R. Smith":https://zenith.aero/profile/StephenRSmith
ATTENDEE;ROLE=REQ-PARTICIPANT;PARTSTAT=ACCEPTED;RSVP=TRUE;CN="Doug Dug
 ger":https://zenith.aero/profile/DougDugger
END:VEVENT
END:VCALENDAR
