BEGIN:VCALENDAR
PRODID:NingEventWidget-v1
VERSION:2.0
METHOD:PUBLISH
BEGIN:VEVENT
UID:2606393:Event:25596
DTSTAMP:20260423T102054Z
SUMMARY:Quality Sport Planes
DESCRIPTION:A one day flyin in northern calif should be fun will displ
 ay our 701 STOL and hopefully take thousands of orders for Zenith airc
 raft kits????????? Any and all are invited to come so if your close an
 d want a nice outing?\n\nFor more information visit https://zenith.aer
 o/events/quality-sport-planes
DTSTART:20090628T050000Z
DTEND:20090629T045900Z
CATEGORIES:one, day, flyin, at, fall, river, mills, tonkin, "field."
LOCATION:Tonkin Field, Fall River Mills, CA
WEBSITE:
URL:
CONTACT:
ORGANIZER;CN="Doug Dugger":https://zenith.aero/profile/DougDugger
ATTACH;FMTTYPE="image/jpeg":
ATTENDEE;ROLE=REQ-PARTICIPANT;PARTSTAT=ACCEPTED;RSVP=TRUE;CN="Stephen 
 R. Smith":https://zenith.aero/profile/StephenRSmith
ATTENDEE;ROLE=REQ-PARTICIPANT;PARTSTAT=ACCEPTED;RSVP=TRUE;CN="Doug Dug
 ger":https://zenith.aero/profile/DougDugger
END:VEVENT
END:VCALENDAR
