BEGIN:VCALENDAR
PRODID:NingEventWidget-v1
VERSION:2.0
METHOD:PUBLISH
BEGIN:VEVENT
UID:2606393:Event:160602
DTSTAMP:20260422T002810Z
SUMMARY:Sebring U.S. Sport Pilot Aviation Expo 2015
DESCRIPTION:\nVisit Zenith Aircraft at booth 305 (outdoor display, rig
 ht next to the large Indoor Exhibit Tent)\nSee the One Week Wonder CH
  750 Cruzer at the EAA tent!\nZenith \"Meet and Greet\" social hour at
  the Zenith booth, sponsored by Sennheiser Aviation Headsets!  5:00 
 pm, Thursday, January 15, Zenith booth 305.\nForum: \"Building Your Ow
 n Light Sport Aircraft\" presented by Sebastien Heintz of Zenith Aircr
 aft Co.  10:45 am - 12:00 pm, Friday Jan. 16, Forum #4\nBuzz Air Flig
 ht Academy plans to attend with a CH601/650 LSA for transition and fl
 ight training. Call: 775-781-4411\nContact us to schedule a demo fli
 ght!\n\n\nThis is the premier event for light sport aircraft and sport
  aviation for sport pilots, and is located in sunny Florida!\n\nVideo 
 Clips from Sebring (past years)\n\n\nFor more information visit https
 ://zenith.aero/events/sebring-sport-pilot-aviation-expo-2012
DTSTART:20150114T060000Z
DTEND:20150118T055900Z
CATEGORIES:fly-in, convention, expo, show, airshow
LOCATION:Sebring Regional Airport
WEBSITE:http://www.sport-aviation-expo.com/
URL:http://www.sport-aviation-expo.com/
CONTACT:(863) 655-6444
ORGANIZER:Sebring Sport Pilot Aviation Expo
ATTACH;FMTTYPE="image/jpeg":http://storage.ning.com/topology/rest/1.0/
 file/get/2268213449?profile=original
ATTENDEE;ROLE=REQ-PARTICIPANT;PARTSTAT=ACCEPTED;RSVP=TRUE;CN="Robert S
 eaton":https://zenith.aero/profile/RobertSeaton
ATTENDEE;ROLE=REQ-PARTICIPANT;PARTSTAT=ACCEPTED;RSVP=TRUE;CN="Zenith.A
 ero":https://zenith.aero/profile/Admin
ATTENDEE;ROLE=REQ-PARTICIPANT;PARTSTAT=ACCEPTED;RSVP=TRUE;CN="Robert S
 winney":https://zenith.aero/profile/RobertSwinney
ATTENDEE;ROLE=REQ-PARTICIPANT;PARTSTAT=ACCEPTED;RSVP=TRUE;CN="William 
 Campbell":https://zenith.aero/profile/WilliamCampbell
ATTENDEE;ROLE=REQ-PARTICIPANT;PARTSTAT=ACCEPTED;RSVP=TRUE;CN="Sebastie
 n Heintz":https://zenith.aero/profile/SHeintz
ATTENDEE;ROLE=REQ-PARTICIPANT;PARTSTAT=TENTATIVE;RSVP=TRUE;CN="Roger L
 ambert":https://zenith.aero/profile/RogerLambert
ATTENDEE;ROLE=REQ-PARTICIPANT;PARTSTAT=TENTATIVE;RSVP=TRUE;CN="Bryan W
 alstrom":https://zenith.aero/profile/BryanWalstrom
END:VEVENT
END:VCALENDAR
