BEGIN:VCALENDAR
PRODID:NingEventWidget-v1
VERSION:2.0
METHOD:PUBLISH
BEGIN:VEVENT
UID:2606393:Event:54581
DTSTAMP:20260424T034250Z
SUMMARY:Zenith CH 750 Webinar hosted by EAA
DESCRIPTION:Join me as I discuss building and flying the STOL CH 750 
 and the new CH 750 Cruzer kit airplanes in this EAA sponsored and 
 hosted web-based seminar. We will use slides and audio, and participan
 ts can ask questions. Sign up now for the free webinar!\n\nBuilding an
 d Flying the Zenith CH-750\nThe Zenith CH 750 experimental kit aircraf
 t can be built as a STOL (Short Takeoff and Landing) or as a Cruzer ai
 rplane.  Learn about the design philosophy, building process and flig
 ht characteristics of these popular homebuilt aircraft from Sebastien 
 Heintz, President of Zenith Aircraft Co.\nSign up now for the free web
 inar!\n\nEAA webinars are sponsored by Aircraft Spruce and Specialty C
 o.\n\nFor more information visit https://zenith.aero/events/stol-ch-75
 0-webinar-hosted-by
DTSTART:20150312T003000Z
DTEND:20150312T010000Z
CATEGORIES:webinar
LOCATION:Webinar
WEBSITE:http://www.eaa.org/en/eaa/aviation-education-and-resources/avi
 ation-videos-and-aviation-photos/eaa-webinars
URL:http://www.eaa.org/en/eaa/aviation-education-and-resources/aviatio
 n-videos-and-aviation-photos/eaa-webinars
CONTACT:
ORGANIZER:EAA
ATTACH;FMTTYPE="image/jpeg":http://storage.ning.com/topology/rest/1.0/
 file/get/2268242587?profile=original
ATTENDEE;ROLE=REQ-PARTICIPANT;PARTSTAT=ACCEPTED;RSVP=TRUE;CN="Sebastie
 n Heintz":https://zenith.aero/profile/SHeintz
END:VEVENT
END:VCALENDAR
