BEGIN:VCALENDAR
PRODID:NingEventWidget-v1
VERSION:2.0
METHOD:PUBLISH
BEGIN:VEVENT
UID:2606393:Event:319066
DTSTAMP:20260423T101949Z
SUMMARY:stolchfest
DESCRIPTION:just a reminder..........Stolchfest is going to happen whi
 ther one person shows up or a hundred....check out   http://groups.ya
 hoo.com/neo/groups/stolchfest/\n\nFor more information visit https://z
 enith.aero/events/stolchfest
DTSTART:20131027T230000Z
DTEND:20131028T000000Z
CATEGORIES:fly, in
LOCATION:Deming NM
WEBSITE:
URL:
CONTACT:
ORGANIZER;CN="Joey Cirri":https://zenith.aero/profile/JoeCirri
ATTACH;FMTTYPE="image/jpeg":
ATTENDEE;ROLE=REQ-PARTICIPANT;PARTSTAT=ACCEPTED;RSVP=TRUE;CN="Joey Cir
 ri":https://zenith.aero/profile/JoeCirri
END:VEVENT
END:VCALENDAR
