BEGIN:VCALENDAR
PRODID:NingEventWidget-v1
VERSION:2.0
METHOD:PUBLISH
BEGIN:VEVENT
UID:2606393:Event:174935
DTSTAMP:20260424T034009Z
SUMMARY:Sun' Fun Fly-In 2016
DESCRIPTION:Annual Sun'n Fun fly-in convention in Lakeland, Florida. 
 \nVisit Zenith Aircraft Company in the main aircraft outdoor display a
 rea MD-026B (same location as past years)\nhttp://www.sun-n-fun.org\n\
 nPhotos from Sun'n Fun (past years)\n\n\nFor more information visit ht
 tps://zenith.aero/events/sun-fun-fly-in
DTSTART:20160405T050000Z
DTEND:20160411T045900Z
CATEGORIES:fly-in
LOCATION:Lakeland Linder Regional Airport KLAL
WEBSITE:http://www.sun-n-fun.org
URL:http://www.sun-n-fun.org
CONTACT:
ORGANIZER:
ATTACH;FMTTYPE="image/jpeg":http://storage.ning.com/topology/rest/1.0/
 file/get/2268211635?profile=original
ATTENDEE;ROLE=REQ-PARTICIPANT;PARTSTAT=ACCEPTED;RSVP=TRUE;CN="Phil Car
 ley":https://zenith.aero/profile/PhilCarley
ATTENDEE;ROLE=REQ-PARTICIPANT;PARTSTAT=ACCEPTED;RSVP=TRUE;CN="Deane Ph
 ilip":https://zenith.aero/profile/DeanePhilip
ATTENDEE;ROLE=REQ-PARTICIPANT;PARTSTAT=ACCEPTED;RSVP=TRUE;CN="Zenith.A
 ero":https://zenith.aero/profile/Admin
END:VEVENT
END:VCALENDAR
