BEGIN:VCALENDAR
PRODID:NingEventWidget-v1
VERSION:2.0
METHOD:PUBLISH
BEGIN:VEVENT
UID:2606393:Event:319807
DTSTAMP:20260424T050847Z
SUMMARY:Tuesday Builder Chat
DESCRIPTION:Dan (Dempsey, Zodiac XL) has been trying to reinstate the 
 weekly builder chats and last night we had a nice chat with the partic
 ipation of a few builders. We are hoping more of you can join us on Tu
 esday evenings/nights so the we have moved the time to 9 PM to make it
  easier for those on the West coast to join in the chat without inconv
 eniencing those of us on the East coast.\nIf we have active Zenith.aer
 o members join the chat and help spread the word to those who don't fr
 equent the site we are sure to have a livelier and more informative we
 ekly chat.\nSo mark it on your calendars, put reminders in your phones
  and see you all on Tuesday @ 9 pm (Eastern time).\n\n\n\n\nFor more i
 nformation visit https://zenith.aero/events/tuesday-builder-chat
DTSTART:20131106T030000Z
DTEND:20131106T050000Z
CATEGORIES:chat
LOCATION:Zenith.aero Chat Main Room
WEBSITE:http://www.zenith.aero
URL:http://www.zenith.aero
CONTACT:
ORGANIZER:Dan Dempsey (Zodiac XL)
ATTACH;FMTTYPE="image/jpeg":http://storage.ning.com/topology/rest/1.0/
 file/get/2268366215?profile=original
ATTENDEE;ROLE=REQ-PARTICIPANT;PARTSTAT=ACCEPTED;RSVP=TRUE;CN="Mark LaP
 ierre":https://zenith.aero/profile/MarkLaPierre
ATTENDEE;ROLE=REQ-PARTICIPANT;PARTSTAT=ACCEPTED;RSVP=TRUE;CN="Bill Car
 ter":https://zenith.aero/profile/BillCarter175
ATTENDEE;ROLE=REQ-PARTICIPANT;PARTSTAT=ACCEPTED;RSVP=TRUE;CN="John Ken
 t":https://zenith.aero/profile/JohnKent655
ATTENDEE;ROLE=REQ-PARTICIPANT;PARTSTAT=ACCEPTED;RSVP=TRUE;CN="Efe Cem 
 Elci":https://zenith.aero/profile/EfeCemElci
ATTENDEE;ROLE=REQ-PARTICIPANT;PARTSTAT=ACCEPTED;RSVP=TRUE;CN="Spencer 
 Rice":https://zenith.aero/profile/SpencerRice
ATTENDEE;ROLE=REQ-PARTICIPANT;PARTSTAT=TENTATIVE;RSVP=TRUE;CN="Leo Arr
 igo":https://zenith.aero/profile/LeoArrigo
ATTENDEE;ROLE=REQ-PARTICIPANT;PARTSTAT=TENTATIVE;RSVP=TRUE;CN="Hubert 
 Gammill":https://zenith.aero/profile/HubertGammill
ATTENDEE;ROLE=REQ-PARTICIPANT;PARTSTAT=TENTATIVE;RSVP=TRUE;CN="Normand
  Lambert":https://zenith.aero/profile/NormandLambert
ATTENDEE;ROLE=REQ-PARTICIPANT;PARTSTAT=TENTATIVE;RSVP=TRUE;CN="Dale Me
 dendorp":https://zenith.aero/profile/DaleMedendorp
ATTENDEE;ROLE=REQ-PARTICIPANT;PARTSTAT=TENTATIVE;RSVP=TRUE;CN="Mike No
 rton":https://zenith.aero/profile/MichaelENorton
ATTENDEE;ROLE=REQ-PARTICIPANT;PARTSTAT=TENTATIVE;RSVP=TRUE;CN="Gabhan 
 Berry":https://zenith.aero/profile/GabhanBerry
ATTENDEE;ROLE=REQ-PARTICIPANT;PARTSTAT=TENTATIVE;RSVP=TRUE;CN="Thomas 
 Jackson":https://zenith.aero/profile/THOMASJACKSON
ATTENDEE;ROLE=REQ-PARTICIPANT;PARTSTAT=TENTATIVE;RSVP=TRUE;CN="Thomas 
 Zink":https://zenith.aero/profile/ThomasZink
ATTENDEE;ROLE=REQ-PARTICIPANT;PARTSTAT=TENTATIVE;RSVP=TRUE;CN="Zenith.
 Aero":https://zenith.aero/profile/Admin
END:VEVENT
END:VCALENDAR
