BEGIN:VCALENDAR
PRODID:NingEventWidget-v1
VERSION:2.0
METHOD:PUBLISH
BEGIN:VEVENT
UID:2606393:Event:705473
DTSTAMP:20260421T093154Z
SUMMARY:Virtual Kit Airplane Building Workshop: November 6, 2020
DESCRIPTION:\r\nLIVE Virtual Workshop Event: Friday, November 6, 2020\
 r\n\r\nVirtual Hands-On Kit Aircraft Building Workshop: Plan now to j
 oin us for our next hands-on virtual workshop next month from the co
 mfort of your own home. Participants from around the country will be j
 oining virtually to build their own rudder tail section of the popular
  Zenith STOL CH 750 Super Duty in a one day workshop class on Frida
 y, November 6. We'll ship the rudder kits (and needed tools) to partic
 ipants' homes and will broadcast a live interactive video-conference (
 via Zoom) of the build class so that participants can go through the e
 ntire rudder build experience with the guidance of factory professiona
 ls.\r\nWe’ll even plan on a live factory tour and demo flight! For t
 his live virtual workshop we will be building the STOL CH 750 Super D
 uty rudder assembly only.\r\n \r\n\r\n\r\n\r\nhttps://www.zenithair.c
 o/zenithstore/product/november-virtual-workshop/\r\n\r\n\r\nZenith Air
 craft Company's factory workshops have become popular with sport aviat
 ion enthusiasts, giving them the opportunity to gain valuable hands-on
  experience in building their own Zenith Aircraft kit plane. Participa
 nts get the opportunity to actually start assembling kit parts under t
 he direction and guidance of factory professionals.\r\n\r\n\r\nDetails
  / Sign Up\r\nAdditional Zenith workshops / events\r\n\n\nFor more inf
 ormation visit https://zenith.aero/events/virtual-wksp-11-20
DTSTART:20201106T150000Z
DTEND:20201106T200000Z
CATEGORIES:workshop
LOCATION:Zenith Aircraft factory
WEBSITE:https://www.zenithair.co/zenithstore/product/november-virtual-
 workshop/
URL:https://www.zenithair.co/zenithstore/product/november-virtual-work
 shop/
CONTACT:573-581-9000
ORGANIZER:Zenith Aircraft Co.
ATTACH;FMTTYPE="image/jpeg":https://storage.ning.com/topology/rest/1.0
 /file/get/4439685276?profile=original
ATTENDEE;ROLE=REQ-PARTICIPANT;PARTSTAT=ACCEPTED;RSVP=TRUE;CN="Zenith A
 ero":https://zenith.aero/profile/ZenithAero
ATTENDEE;ROLE=REQ-PARTICIPANT;PARTSTAT=ACCEPTED;RSVP=TRUE;CN="Fred Gri
 ffin":https://zenith.aero/profile/FredGriffin
ATTENDEE;ROLE=REQ-PARTICIPANT;PARTSTAT=ACCEPTED;RSVP=TRUE;CN="Cas Hoef
 man":https://zenith.aero/profile/CasHoefman
ATTENDEE;ROLE=REQ-PARTICIPANT;PARTSTAT=ACCEPTED;RSVP=TRUE;CN="Anthony 
 Polster":https://zenith.aero/profile/AnthonyPolster
ATTENDEE;ROLE=REQ-PARTICIPANT;PARTSTAT=ACCEPTED;RSVP=TRUE;CN="Sebastie
 n Heintz":https://zenith.aero/profile/SHeintz
ATTENDEE;ROLE=REQ-PARTICIPANT;PARTSTAT=ACCEPTED;RSVP=TRUE;CN="Roger Bi
 shop":https://zenith.aero/profile/RogerBishop
ATTENDEE;ROLE=REQ-PARTICIPANT;PARTSTAT=TENTATIVE;RSVP=TRUE;CN="Peter S
 nipe":https://zenith.aero/profile/PeterSnipe
END:VEVENT
END:VCALENDAR
