BEGIN:VCALENDAR
PRODID:NingEventWidget-v1
VERSION:2.0
METHOD:PUBLISH
BEGIN:VEVENT
UID:2606393:Event:15297
DTSTAMP:20260423T222413Z
SUMMARY:West Coast Zenith Fly-in
DESCRIPTION:This annual get-together in Northern California's beautifu
 l Sonoma county is a favorite with Zenith \"Builders and Flyers\" in t
 he west. Held in conjunction with Quality Sport Planes Spring Open Hou
 se, it's a great place to meet other builders and to look over the man
 y planes that fly in! Builder-assistance projects and demos are also o
 n display in the QSP hangar. This Year's special guests: Sebastien Hei
 ntz and Roger Dubert from the Zenith factory! Everyone welcome; fly-in
  or drive in!\n\nFor more information visit https://zenith.aero/events
 /west-coast-zenith-flyin
DTSTART:20090509T050000Z
DTEND:20090510T045900Z
CATEGORIES:fly-in, "&", zenith, "builder/flyer", "get-together!"
LOCATION:Cloverdale Municipal Airport (O60)
WEBSITE:http://www.qualitysportplanes.com/qsp-2006_036.htm
URL:http://www.qualitysportplanes.com/qsp-2006_036.htm
CONTACT:707-894-4084
ORGANIZER:Quality Sport Planes staff and friends
ATTACH;FMTTYPE="image/jpeg":http://storage.ning.com/topology/rest/1.0/
 file/get/2268223865?profile=original
ATTENDEE;ROLE=REQ-PARTICIPANT;PARTSTAT=ACCEPTED;RSVP=TRUE;CN=rontheman
 13:https://zenith.aero/profile/rontheman13
ATTENDEE;ROLE=REQ-PARTICIPANT;PARTSTAT=ACCEPTED;RSVP=TRUE;CN="Mark She
 rman":https://zenith.aero/profile/MarkSherman
ATTENDEE;ROLE=REQ-PARTICIPANT;PARTSTAT=ACCEPTED;RSVP=TRUE;CN="Sebastie
 n Heintz":https://zenith.aero/profile/SHeintz
ATTENDEE;ROLE=REQ-PARTICIPANT;PARTSTAT=ACCEPTED;RSVP=TRUE;CN="Rick Lac
 h":https://zenith.aero/profile/RickLach
ATTENDEE;ROLE=REQ-PARTICIPANT;PARTSTAT=ACCEPTED;RSVP=TRUE;CN="Richard 
 Vetterli":https://zenith.aero/profile/RichardVetterli
ATTENDEE;ROLE=REQ-PARTICIPANT;PARTSTAT=ACCEPTED;RSVP=TRUE;CN="Woody Ha
 rris":https://zenith.aero/profile/WoodyHarris
ATTENDEE;ROLE=REQ-PARTICIPANT;PARTSTAT=ACCEPTED;RSVP=TRUE;CN="Stephen 
 R. Smith":https://zenith.aero/profile/StephenRSmith
ATTENDEE;ROLE=REQ-PARTICIPANT;PARTSTAT=ACCEPTED;RSVP=TRUE;CN="Michael 
 Heintz":https://zenith.aero/profile/Mic
END:VEVENT
END:VCALENDAR
