BEGIN:VCALENDAR
PRODID:NingEventWidget-v1
VERSION:2.0
METHOD:PUBLISH
BEGIN:VEVENT
UID:2606393:Event:23691
DTSTAMP:20260423T132156Z
SUMMARY:Wings and Wheels
DESCRIPTION:Starting a 6:00 Am with breakfast put on by Devils Tower E
 AA Chapter 1453. Airshow starts at 12:30 PM\n\nFor more information vi
 sit https://zenith.aero/events/wings-and-wheels
DTSTART:20090719T050000Z
DTEND:20090720T045900Z
CATEGORIES:air, and, classic, car, show
LOCATION:9 miles north of the Devils Tower in Wyoming
WEBSITE:
URL:
CONTACT:
ORGANIZER:Town of Hulett Wyoming
ATTACH;FMTTYPE="image/jpeg":http://storage.ning.com/topology/rest/1.0/
 file/get/2268224039?profile=original
ATTENDEE;ROLE=REQ-PARTICIPANT;PARTSTAT=ACCEPTED;RSVP=TRUE;CN="Glen Ste
 rling":https://zenith.aero/profile/GlenSterling
END:VEVENT
END:VCALENDAR
