BEGIN:VCALENDAR
PRODID:NingEventWidget-v1
VERSION:2.0
METHOD:PUBLISH
BEGIN:VEVENT
UID:2606393:Event:27043
DTSTAMP:20260421T033240Z
SUMMARY:ZENAIR ITALIAN FLY-IN
DESCRIPTION:Fly-in poster.pptx27 Sept 2009 The Fly Boys srl will host 
 the first Italian ZENAIR fly-in at Thiene (LIDH) airport in Vicenza, I
 taly.\nPlease confirm your participation via email to info@flyboys.it\
 n\nFor more information visit https://zenith.aero/events/zenair-italia
 n-flyin
DTSTART:20090927T050000Z
DTEND:20090928T045900Z
CATEGORIES:fly-in
LOCATION:Aeroporto Arturo Ferrarin (LIDH) Thiene, Vicenza
WEBSITE:http://www.aeroportothiene.it
URL:http://www.aeroportothiene.it
CONTACT:339-1225792
ORGANIZER:The Fly Boys srl
ATTACH;FMTTYPE="image/jpeg":http://storage.ning.com/topology/rest/1.0/
 file/get/2268224738?profile=original
ATTENDEE;ROLE=REQ-PARTICIPANT;PARTSTAT=ACCEPTED;RSVP=TRUE;CN="Luciano 
 Musante":https://zenith.aero/profile/LucianoMusante
ATTENDEE;ROLE=REQ-PARTICIPANT;PARTSTAT=ACCEPTED;RSVP=TRUE;CN="Roy Viso
 na`":https://zenith.aero/profile/RoyVisona
END:VEVENT
END:VCALENDAR
